BEGIN:VCALENDAR
VERSION:2.0
PRODID:-//REGAIN - ECPv6.10.2//NONSGML v1.0//EN
CALSCALE:GREGORIAN
METHOD:PUBLISH
X-ORIGINAL-URL:https://regenerativeagideanetwork.org
X-WR-CALDESC:Events for REGAIN
REFRESH-INTERVAL;VALUE=DURATION:PT1H
X-Robots-Tag:noindex
X-PUBLISHED-TTL:PT1H
BEGIN:VTIMEZONE
TZID:America/Denver
BEGIN:DAYLIGHT
TZOFFSETFROM:-0700
TZOFFSETTO:-0600
TZNAME:MDT
DTSTART:20210314T090000
END:DAYLIGHT
BEGIN:STANDARD
TZOFFSETFROM:-0600
TZOFFSETTO:-0700
TZNAME:MST
DTSTART:20211107T080000
END:STANDARD
END:VTIMEZONE
BEGIN:VTIMEZONE
TZID:America/Chicago
BEGIN:DAYLIGHT
TZOFFSETFROM:-0600
TZOFFSETTO:-0500
TZNAME:CDT
DTSTART:20210314T080000
END:DAYLIGHT
BEGIN:STANDARD
TZOFFSETFROM:-0500
TZOFFSETTO:-0600
TZNAME:CST
DTSTART:20211107T070000
END:STANDARD
END:VTIMEZONE
BEGIN:VTIMEZONE
TZID:America/New_York
BEGIN:DAYLIGHT
TZOFFSETFROM:-0500
TZOFFSETTO:-0400
TZNAME:EDT
DTSTART:20210314T070000
END:DAYLIGHT
BEGIN:STANDARD
TZOFFSETFROM:-0400
TZOFFSETTO:-0500
TZNAME:EST
DTSTART:20211107T060000
END:STANDARD
END:VTIMEZONE
BEGIN:VTIMEZONE
TZID:America/Chicago
BEGIN:DAYLIGHT
TZOFFSETFROM:-0600
TZOFFSETTO:-0500
TZNAME:CDT
DTSTART:20210314T080000
END:DAYLIGHT
BEGIN:STANDARD
TZOFFSETFROM:-0500
TZOFFSETTO:-0600
TZNAME:CST
DTSTART:20211107T070000
END:STANDARD
END:VTIMEZONE
BEGIN:VEVENT
DTSTART;VALUE=DATE:20210711
DTEND;VALUE=DATE:20210712
DTSTAMP:20260421T184158
CREATED:20210630T145524Z
LAST-MODIFIED:20210630T145524Z
UID:7245-1625961600-1626047999@regenerativeagideanetwork.org
SUMMARY:Conservation Innovation Grants in Florida
DESCRIPTION:USDA Natural Resources Conservation Service in Florida has a total of $300\,000 available for Conservation Innovation Grants in Florida. All non-federal entities and individuals are invited to apply for grants up to $75\,000 to stimulate the development and adoption of innovative conservation approaches and technologies. Up to 10% of the total funds available for CIG in FY 2021 is set aside for proposals from Historically Underserved producers\, veteran farmers or ranchers\, or community-based organizations comprised of or representing these entities. The Florida state priority this year is innovation and improved weather resiliency in High Tunnel Systems.\nApplications are due by July 12\, 2021.
URL:https://regenerativeagideanetwork.org/event/conservation-innovation-grants-in-florida/
CATEGORIES:Funding Opportunities
END:VEVENT
BEGIN:VEVENT
DTSTART;TZID=America/Chicago:20210711T093000
DTEND;TZID=America/Chicago:20210711T163000
DTSTAMP:20260421T184158
CREATED:20210616T155809Z
LAST-MODIFIED:20210630T144941Z
UID:7086-1625995800-1626021000@regenerativeagideanetwork.org
SUMMARY:Black Currant Field Day
DESCRIPTION:The time is right to expand black currants (Ribes nigrum) as a crop in Wisconsin. Farmers in Wisconsin that grow black currants consider them to be viable from an agronomic standpoint\, citing the following attributes: extremely cold hardy\, able to grow on a wide variety of soil types and a wide range of pH\, less attractive to wildlife\, can produce up to 6\,000 pounds per acre\, can be machine harvested\, and they hold on the bush to allow for flexible harvest dates. \nTwo farms\, one field day! We’ll begin the morning with a visit to Elsewhere Farm: to learn more about managing an integrated food forest system that includes a pear overstory and understory of elderberry\, aronia\, and highbush cranberry\, and how the farmer incorporates grazing pigs. We will be highlighting the several varieties of currants grown here and why they aren’t a part of the food forest. Hint: it has to do with manure management. Afterwards\, we’ll head to Highland Valley Farm: to learn about their red and black currant operation: varieties to harvest. We’ll end the tour with a tasting of the end product at their onsite winery ($1/taste) for a discussion about flavor. Join us for one or both! This tour is great for people who are thinking about growing currants and what cultivars would suit them best.  \nLunch and dinner suggestions:\n-The Fat Radish restaurant. Located between Elsewhere and Highland Valley farms. They emphasize local produce and have an original menu.  Also\, Cornucopia (where the Fat Radish is located) has a fantastic coffee shop for a pick-me-up!\n–White Winter Winery in Iron River (bonus: sample the products made with Rick’s currants). \nSARE research report from Elsewhere farm to check out if you’re interested!: https://northcentral.sare.org/news/direct-marketing-non-traditional-perennial-berries/
URL:https://regenerativeagideanetwork.org/event/black-currant-field-day/
LOCATION:Elsewhere Farm\, 16550 Nicoletti\, Herbster\, Wisconsin\, 54844
CATEGORIES:Training/Workshop
GEO:46.840409;-91.2245464
X-APPLE-STRUCTURED-LOCATION;VALUE=URI;X-ADDRESS=Elsewhere Farm 16550 Nicoletti Herbster Wisconsin 54844;X-APPLE-RADIUS=500;X-TITLE=16550 Nicoletti:geo:-91.2245464,46.840409
END:VEVENT
BEGIN:VEVENT
DTSTART;VALUE=DATE:20210712
DTEND;VALUE=DATE:20210713
DTSTAMP:20260421T184158
CREATED:20210630T145525Z
LAST-MODIFIED:20210630T145525Z
UID:7247-1626048000-1626134399@regenerativeagideanetwork.org
SUMMARY:Food & Ag Policy Summit West
DESCRIPTION:July 12\, 2021\nSacramento\, California\, and Online\nAgri-Pulse is presenting the Food & Ag Policy Summit West: How Can California Agriculture Remain Competitive? The event will offer a full day of speeches and panel discussions\, with both in-person and virtual attendance options. The event will feature engaging conversations with Karen Ross\, Secretary of California Department of Food and Agriculture; Assemblymember Robert Rivas\, Chair of the Assembly Agriculture Committee and Vice-Chair of the Latino Legislative Caucus; Dr. Lynn Hamilton\, professor\, agribusiness at Cal Poly State University; Mike Way\, managing partner\, Prime Time International; Walt Duflock\, vice president of agtech innovation at Western Growers; Jenny Maloney\, Global-Americas strategic accounts manager at Bayer Crop Science Vegetable Seeds\, Clay Mitchell\, co-founder and managing director of Fall Line Capital\, and others. In addition\, Agri-Pulse will host panel discussions with a group of beginning farmers as well as the CEOs of some of the leading California agriculture associations.
URL:https://regenerativeagideanetwork.org/event/food-ag-policy-summit-west/
END:VEVENT
BEGIN:VEVENT
DTSTART;TZID=America/New_York:20210712T123000
DTEND;TZID=America/New_York:20210712T143000
DTSTAMP:20260421T184158
CREATED:20210630T145525Z
LAST-MODIFIED:20210630T145525Z
UID:7248-1626093000-1626100200@regenerativeagideanetwork.org
SUMMARY:Building Equitable Farmland Tenure Models for Northeast Farmers
DESCRIPTION:July 12\, 2021\nOnline\nNortheast Farmers of Color Land Trust partnered with Agrarian Trust to co-host “Building Equitable Farmland Tenure Models for Northeast Farmers\,” an online Equitable Land Access (ELA) Co-Learning and Training opportunity for 100 participants interested in advancing equitable farmland access opportunities in their communities. The first session is “Land-As-Commodity: History of Land Injustices.” This training is meant to be for residents of Vermont\, New Hampshire\, or Maine and also meant to be for agricultural service providers who help guide farmland owners and/or farmland seekers about different options available to them\, but anyone interested may register for this free training.
URL:https://regenerativeagideanetwork.org/event/building-equitable-farmland-tenure-models-for-northeast-farmers/
END:VEVENT
BEGIN:VEVENT
DTSTART;TZID=America/Chicago:20210713T080000
DTEND;TZID=America/Chicago:20210713T170000
DTSTAMP:20260421T184158
CREATED:20210713T211512Z
LAST-MODIFIED:20210713T211512Z
UID:7420-1626163200-1626195600@regenerativeagideanetwork.org
SUMMARY:Grazing Field Day with Understanding Ag
DESCRIPTION:Grazing Field Day with Understanding Ag – Elkhart\, IL \nTuesday\, August 31\, 2021\, 9:00 am – 3:00 pm CST \n\nJoin the Pasture Project and the team at Understanding Ag for a grazing field day! David Kleinschmidt and Doug Peterson will lead the workshop\, which will be hosted by Kathy and Rick Kaesebier on their farm. Lunch will be provided. \n  \n*Farm address will be shared with field day participants. \n\n  \nClick Here to Register
URL:https://regenerativeagideanetwork.org/event/grazing-field-day-with-understanding-ag/
END:VEVENT
BEGIN:VEVENT
DTSTART;TZID=America/Chicago:20210713T080000
DTEND;TZID=America/Chicago:20210713T170000
DTSTAMP:20260421T184158
CREATED:20210713T211608Z
LAST-MODIFIED:20210713T211654Z
UID:7422-1626163200-1626195600@regenerativeagideanetwork.org
SUMMARY:Grazing Field Day with Understanding Ag
DESCRIPTION:Grazing Field Day with Understanding Ag – Highland\, IL \nWednesday\, September 1\, 2021\, 9:00 am – 3:00 pm CST \n\nJoin the Pasture Project and the team at Understanding Ag for a grazing field day! David Kleinschmidt and Doug Peterson will lead the workshop\, which will be hosted by Ted Krauskopf. Lunch will be provided. \n  \n*Farm address will be shared with field day participants. \n\n  \nClick Here to Register
URL:https://regenerativeagideanetwork.org/event/7422/
END:VEVENT
BEGIN:VEVENT
DTSTART;TZID=America/Chicago:20210713T110000
DTEND;TZID=America/Chicago:20210713T123000
DTSTAMP:20260421T184158
CREATED:20210630T145525Z
LAST-MODIFIED:20210630T145525Z
UID:7249-1626174000-1626179400@regenerativeagideanetwork.org
SUMMARY:Farming for the Future: Ecosystem Market Summer Series
DESCRIPTION:July 13\, 2021\nOnline\nJoin the Illinois Sustainable Ag Partnership and organizations from Indiana\, Iowa\, Ohio\, and Wisconsin for a free four-part webinar series exploring new management options and financial opportunities for Midwest farmers. The series will provide farmers and their advisors with practical and straightforward information on innovative incentives. This session examines market opportunities through the lens of Consumer Packaged Goods (Cargill\, General Mills\, and PepsiCo).
URL:https://regenerativeagideanetwork.org/event/farming-for-the-future-ecosystem-market-summer-series/
END:VEVENT
BEGIN:VEVENT
DTSTART;TZID=America/New_York:20210713T140000
DTEND;TZID=America/New_York:20210713T153000
DTSTAMP:20260421T184158
CREATED:20210630T145525Z
LAST-MODIFIED:20210630T145525Z
UID:7250-1626184800-1626190200@regenerativeagideanetwork.org
SUMMARY:Financing Food Systems Through FinTech
DESCRIPTION:July 13\, 2021\nOnline\nThis event is part of the Council of Development Finance Agencies Food Systems Finance Webinar Series. In this session\, explore how tech innovations are increasing access to financing for food-related businesses and projects\, and how finance is supporting the integration of new technology in local food systems.
URL:https://regenerativeagideanetwork.org/event/financing-food-systems-through-fintech/
END:VEVENT
BEGIN:VEVENT
DTSTART;TZID=America/New_York:20210713T150000
DTEND;TZID=America/New_York:20210713T170000
DTSTAMP:20260421T184158
CREATED:20210630T145525Z
LAST-MODIFIED:20210630T145525Z
UID:7251-1626188400-1626195600@regenerativeagideanetwork.org
SUMMARY:Eastern Viticulture and Enology Forum
DESCRIPTION:July 13\, 2021\nOnline\nViticulture and enology extension programs at numerous institutions are collaborating with regional viticulture and enology specialists to present a Grower and Winemaker Town Hall virtual meeting series to give seasonal updates and answer pre-submitted and live questions from grape and wine industry stakeholders.
URL:https://regenerativeagideanetwork.org/event/eastern-viticulture-and-enology-forum/
END:VEVENT
BEGIN:VEVENT
DTSTART;TZID=America/New_York:20210714T150000
DTEND;TZID=America/New_York:20210714T173000
DTSTAMP:20260421T184158
CREATED:20210630T145526Z
LAST-MODIFIED:20210630T145526Z
UID:7252-1626274800-1626283800@regenerativeagideanetwork.org
SUMMARY:Small Sustainable Diversified Farm Tour
DESCRIPTION:July 14\, 2021\nKing William County\, Virginia\nVirginia Cooperative Extension’s Small Farm Outreach Program offers this afternoon farm tour. Registration is limited.
URL:https://regenerativeagideanetwork.org/event/small-sustainable-diversified-farm-tour/
END:VEVENT
BEGIN:VEVENT
DTSTART;TZID=America/New_York:20210714T170000
DTEND;TZID=America/New_York:20210714T183000
DTSTAMP:20260421T184158
CREATED:20210630T145526Z
LAST-MODIFIED:20210630T145526Z
UID:7253-1626282000-1626287400@regenerativeagideanetwork.org
SUMMARY:Farm Training Project: Making Food Accessible
DESCRIPTION:July 14\, 2021\nOnline\nMOFGA’s Farm Training Project (FTP) workshops are designed for apprentices\, farmworkers\, and beginning farmers. Join this online session for a virtual tour of Pine Root Farm and Seek-No-Further Farmstead\, two farms with dedicated models to ensure their fresh produce is accessible to Mainers of all incomes. Sliding scale CSA models\, EBT processing and Senior FarmShare will be discussed.
URL:https://regenerativeagideanetwork.org/event/farm-training-project-making-food-accessible/
END:VEVENT
BEGIN:VEVENT
DTSTART;TZID=America/Denver:20210714T183000
DTEND;TZID=America/Denver:20210714T203000
DTSTAMP:20260421T184158
CREATED:20210630T145526Z
LAST-MODIFIED:20210630T145526Z
UID:7254-1626287400-1626294600@regenerativeagideanetwork.org
SUMMARY:Focusing on Forages Summer Grazing Series
DESCRIPTION:July 14\, 2021\nGreenfield\, Iowa\nIowa State University Extension and Outreach is presenting a four-part grazing series on different farms\, offering information and resources for producers to improve management practices and capitalize on alternative forage resources to extend the grazing season. Sessions will touch on a variety of topics including watering and grazing comparisons\, grazing CRP acres\, and pasture lease and custom care arrangements. This session takes place at ISU Neely-Kinyon Research Farm.
URL:https://regenerativeagideanetwork.org/event/focusing-on-forages-summer-grazing-series/
END:VEVENT
BEGIN:VEVENT
DTSTART;VALUE=DATE:20210715
DTEND;VALUE=DATE:20210716
DTSTAMP:20260421T184158
CREATED:20210630T145526Z
LAST-MODIFIED:20210630T145526Z
UID:7255-1626307200-1626393599@regenerativeagideanetwork.org
SUMMARY:Grow-NY Food and Agriculture Competition
DESCRIPTION:Grow-NY is a business competition focused on growing an enduring food and agriculture innovation cluster in the Grow-NY region including counties in Central New York\, the Finger Lakes\, and the Southern Tier. The competition attracts innovative\, high-growth food and agriculture startups from across the globe and engages them in the region’s rapidly-growing startup ecosystem. Finalists will pitch their business ideas for a chance to win up to $1 million. Winning companies will be required to execute bold plans to grow jobs\, connect with local industry partners\, and contribute to a thriving Upstate economy.\nApplications close July 15\, 2021.
URL:https://regenerativeagideanetwork.org/event/grow-ny-food-and-agriculture-competition/
CATEGORIES:Funding Opportunities
END:VEVENT
BEGIN:VEVENT
DTSTART;VALUE=DATE:20210715
DTEND;VALUE=DATE:20210716
DTSTAMP:20260421T184158
CREATED:20210630T145526Z
LAST-MODIFIED:20210630T145526Z
UID:7256-1626307200-1626393599@regenerativeagideanetwork.org
SUMMARY:Tennessee Dairy Business Innovation Grants
DESCRIPTION:As part of a recent grant from the USDA Agricultural Marketing Service\, the University of Tennessee Department of Animal Science and the Center for Profitable Agriculture have teamed with the Tennessee Department of Agriculture to support eligible Tennessee dairies as they seek to modernize and diversify their operations. Approximately $62\,000 is still available for subawards to individual Tennessee dairy businesses. To qualify for a grant\, dairy businesses must use the funds to improve their operations in one of the following three areas: modernization\, specialization\, and grazing transition on dairy farms; value chain and commodity innovation and facility and/or process updates for dairy processors; dairy product development\, packaging\, and/or marketing. Each applicant can apply for a maximum of $25\,000.\nApplications will be accepted until July 15\, 2021.
URL:https://regenerativeagideanetwork.org/event/tennessee-dairy-business-innovation-grants/
CATEGORIES:Funding Opportunities
END:VEVENT
BEGIN:VEVENT
DTSTART;TZID=America/Denver:20210715T100000
DTEND;TZID=America/Denver:20210715T123000
DTSTAMP:20260421T184158
CREATED:20210630T145526Z
LAST-MODIFIED:20210630T145526Z
UID:7257-1626343200-1626352200@regenerativeagideanetwork.org
SUMMARY:Aquaponics
DESCRIPTION:July 15\, 2021\nOnline\nVirginia Cooperative Extension’s Small Farm Outreach Program is offering this virtual aquaponics event featuring Randolph Farm.
URL:https://regenerativeagideanetwork.org/event/aquaponics-2/
END:VEVENT
BEGIN:VEVENT
DTSTART;TZID=America/Denver:20210715T100000
DTEND;TZID=America/Denver:20210715T160000
DTSTAMP:20260421T184158
CREATED:20210630T145527Z
LAST-MODIFIED:20210630T145527Z
UID:7258-1626343200-1626364800@regenerativeagideanetwork.org
SUMMARY:Saline Seeps\, Bale Grazing and Cheatgrass
DESCRIPTION:July 15\, 2021\nConrad\, Montana\nThis event is part of Northern Plains Resource Council’s Soil Crawls series. Rancher Lisa Schmidt will tell participants the story of her land and take them through her cattle and sheep operation. Lisa will showcase her bale grazing practices and management of saline seeps.
URL:https://regenerativeagideanetwork.org/event/saline-seeps-bale-grazing-and-cheatgrass/
END:VEVENT
BEGIN:VEVENT
DTSTART;TZID=America/Chicago:20210715T110000
DTEND;TZID=America/Chicago:20210715T123000
DTSTAMP:20260421T184158
CREATED:20210630T145527Z
LAST-MODIFIED:20210630T145527Z
UID:7259-1626346800-1626352200@regenerativeagideanetwork.org
SUMMARY:Farming for the Future: Ecosystem Market Summer Series
DESCRIPTION:July 15\, 2021\nOnline\nJoin the Illinois Sustainable Ag Partnership and organizations from Indiana\, Iowa\, Ohio\, and Wisconsin for a free four-part webinar series exploring new management options and financial opportunities for Midwest farmers. The series will provide farmers and their advisors with practical and straightforward information on innovative incentives. This final session highlights water quality markets and additional potential revenue streams for ecosystem services.
URL:https://regenerativeagideanetwork.org/event/farming-for-the-future-ecosystem-market-summer-series-2/
END:VEVENT
BEGIN:VEVENT
DTSTART;VALUE=DATE:20210716
DTEND;VALUE=DATE:20210717
DTSTAMP:20260421T184158
CREATED:20210630T145527Z
LAST-MODIFIED:20210630T145527Z
UID:7260-1626393600-1626479999@regenerativeagideanetwork.org
SUMMARY:Community Compost and Food Waste Reduction Pilot Projects
DESCRIPTION:USDA has up to $2 million for cooperative agreements with local governments to host Community Compost and Food Waste Reduction (CCFWR) pilot projects for fiscal year 2021. The cooperative agreements support projects that develop and test strategies for planning and implementing municipal compost plans and food waste reduction plans\, and they are part of USDA’s broader efforts to support urban agriculture. Priority will be given to projects that anticipate or demonstrate economic benefits\, incorporate plans to make compost easily accessible to farmers\, including community gardeners\, integrate other food waste strategies\, including food recovery efforts and collaborate with multiple partners.\nApplications are due by July 16\, 2021.
URL:https://regenerativeagideanetwork.org/event/community-compost-and-food-waste-reduction-pilot-projects/
CATEGORIES:Funding Opportunities
END:VEVENT
BEGIN:VEVENT
DTSTART;VALUE=DATE:20210716
DTEND;VALUE=DATE:20210717
DTSTAMP:20260421T184158
CREATED:20210630T145527Z
LAST-MODIFIED:20210630T145527Z
UID:7261-1626393600-1626479999@regenerativeagideanetwork.org
SUMMARY:Ohio Vineyard Expansion Assistance Program
DESCRIPTION:The 2021 Vineyard Expansion Assistance Program (VEAP) is open to new and existing Ohio vineyards. VEAP allows wineries to invest in and plant high-quality\, high-value grapes onsite instead of purchasing them from other states. The VEAP funding will cover only the cost of the grape vines planted. OGIC has allocated $90\,000 for this competitive program. Each grower may apply for up to $3\,000 per acre with a maximum of three acres\, or $9\,000. Only growers in Ohio may apply for the assistance and the planting must occur in the spring of 2022.\nApplications must be received by July 16\, 2021.
URL:https://regenerativeagideanetwork.org/event/ohio-vineyard-expansion-assistance-program/
CATEGORIES:Funding Opportunities
END:VEVENT
BEGIN:VEVENT
DTSTART;TZID=America/Chicago:20210716T130000
DTEND;TZID=America/Chicago:20210716T160000
DTSTAMP:20260421T184158
CREATED:20210630T145527Z
LAST-MODIFIED:20210630T145527Z
UID:7262-1626440400-1626451200@regenerativeagideanetwork.org
SUMMARY:USDA/DCR/NRCS/FSA/RMA Information Session— Hispanic
DESCRIPTION:July 16\, 2021\nRapidan\, Virginia\nVirginia Cooperative Extension’s Small Farm Outreach Program is offering this afternoon information session on federal programs. Registration is limited.
URL:https://regenerativeagideanetwork.org/event/usda-dcr-nrcs-fsa-rma-information-session-hispanic/
END:VEVENT
BEGIN:VEVENT
DTSTART;TZID=America/Chicago:20210718T133000
DTEND;TZID=America/Chicago:20210718T170000
DTSTAMP:20260421T184158
CREATED:20210630T145528Z
LAST-MODIFIED:20210630T145528Z
UID:7265-1626615000-1626627600@regenerativeagideanetwork.org
SUMMARY:Season Extension I
DESCRIPTION:July 18\, 2021\nOnline\nCenter for Arkansas Farms and Food is offering a two-session Season Extension course online. This first session covers High Tunnel Production & Seasion Extension. The second session takes place on October 17\, 2021. Network with other new farmers and discover resources available to help you succeed.
URL:https://regenerativeagideanetwork.org/event/season-extension-i/
END:VEVENT
BEGIN:VEVENT
DTSTART;VALUE=DATE:20210719
DTEND;VALUE=DATE:20210721
DTSTAMP:20260421T184158
CREATED:20210630T145528Z
LAST-MODIFIED:20210630T145528Z
UID:7266-1626652800-1626825599@regenerativeagideanetwork.org
SUMMARY:Acres U.S.A. On-Farm Intensive with Zimmer Ag
DESCRIPTION:July 19-20\, 2021\nLone Rock\, Wisconsin\nAcres U.S.A. is offering on-farm instructional events on active\, working farms. Instructors Gary Zimmer and Leilani Zimmer-Durand will demonstrate best practices for cover crops\, soil testing\, field preparation\, equipment/tillage\, weed and pest management\, fertilizer programs\, livestock integration\, and more.
URL:https://regenerativeagideanetwork.org/event/acres-u-s-a-on-farm-intensive-with-zimmer-ag/
END:VEVENT
BEGIN:VEVENT
DTSTART;TZID=America/Denver:20210719T080000
DTEND;TZID=America/Denver:20210719T170000
DTSTAMP:20260421T184158
CREATED:20210630T145528Z
LAST-MODIFIED:20210630T145528Z
UID:7267-1626681600-1626714000@regenerativeagideanetwork.org
SUMMARY:Conservation Innovation Grants
DESCRIPTION:USDA Natural Resources Conservation Service (NRCS) is investing up to $15 million to support the development of new tools\, approaches\, practices\, and technologies to further natural resource conservation on private lands through the Conservation Innovation Grants (CIG) program. This is the national CIG Classic funding opportunity\, which supports early pilot projects or demonstrations of promising new conservation approaches\, tools\, and technologies. CIG Classic grantees must match each federal dollar invested at least one to one. CIG partners use creative problem solving and innovation to address our nation’s water quality\, air quality\, soil health\, and wildlife habitat challenges\, all while improving agricultural operations. This year\, funded CIGs will focus on climate-smart strategies for water resources\, soil health (focused on carbon sequestration and climate resilience)\, nutrient management\, grazing lands conservation\, and strategies to increase conservation adoption. All non-federal entities and individuals are eligible to apply.\nProposals are due by July 19\, 2021.
URL:https://regenerativeagideanetwork.org/event/conservation-innovation-grants/
CATEGORIES:Funding Opportunities
END:VEVENT
BEGIN:VEVENT
DTSTART;TZID=America/Denver:20210719T100000
DTEND;TZID=America/Denver:20210719T120000
DTSTAMP:20260421T184158
CREATED:20210630T145529Z
LAST-MODIFIED:20210630T145529Z
UID:7268-1626688800-1626696000@regenerativeagideanetwork.org
SUMMARY:Farmers Market—USDA SNAP and EBT
DESCRIPTION:July 19\, 2021\nOnline\nVirginia Cooperative Extension’s Small Farm Outreach Program is offering this online session on SNAP and EBT at farmers markets.
URL:https://regenerativeagideanetwork.org/event/farmers-market-usda-snap-and-ebt/
END:VEVENT
BEGIN:VEVENT
DTSTART;VALUE=DATE:20210720
DTEND;VALUE=DATE:20210721
DTSTAMP:20260421T184158
CREATED:20210630T145529Z
LAST-MODIFIED:20210630T145529Z
UID:7269-1626739200-1626825599@regenerativeagideanetwork.org
SUMMARY:OEFFA Conference Bites: Skill Building for Farmers and Foragers
DESCRIPTION:July 20\, 2021\nOnline\nOhio Ecological Food and Farm Association is offering access to presentations from its 2021 online conference\, Our Time: Essential Links for a Strong Food Chain\, via OEFFA’s YouTube channel. Videos will be loaded in three “bites” and will be free for viewing at anytime thereafter. This second bite focuses on Skill Building for Farmers and Foragers.
URL:https://regenerativeagideanetwork.org/event/oeffa-conference-bites-skill-building-for-farmers-and-foragers/
END:VEVENT
BEGIN:VEVENT
DTSTART;TZID=America/Chicago:20210721T080000
DTEND;TZID=America/Chicago:20210721T163000
DTSTAMP:20260421T184158
CREATED:20210630T145529Z
LAST-MODIFIED:20210630T145529Z
UID:7271-1626854400-1626885000@regenerativeagideanetwork.org
SUMMARY:Manure Composting Workshop
DESCRIPTION:July 21\, 2021\nCarrington\, North Dakota\nNorth Dakota State University and University of Minnesota are offering Manure Composting Workshops in each state. At this free\, in-person workshop\, learn about manure composting through educational sessions\, demonstrations\, hands-on activities and discussions with an expert panel. Topics include site selection\, process\, turning and temperature\, analysis\, economics\, regulations\, and land application.
URL:https://regenerativeagideanetwork.org/event/manure-composting-workshop/
END:VEVENT
BEGIN:VEVENT
DTSTART;TZID=America/New_York:20210721T090000
DTEND;TZID=America/New_York:20210721T120000
DTSTAMP:20260421T184158
CREATED:20210630T145530Z
LAST-MODIFIED:20210630T145530Z
UID:7272-1626858000-1626868800@regenerativeagideanetwork.org
SUMMARY:Pest Management for Bee Hives
DESCRIPTION:July 21\, 2021\nOnline\nVirginia Cooperative Extension’s Small Farm Outreach Program is offering this virtual meeting from Randolph Farm on Sample and Control of Varroa Mite and Small Hive Beetle.
URL:https://regenerativeagideanetwork.org/event/pest-management-for-bee-hives/
END:VEVENT
BEGIN:VEVENT
DTSTART;TZID=America/New_York:20210722T070000
DTEND;TZID=America/New_York:20210722T190000
DTSTAMP:20260421T184158
CREATED:20210630T145530Z
LAST-MODIFIED:20210630T145530Z
UID:7273-1626937200-1626980400@regenerativeagideanetwork.org
SUMMARY:Veteran Bus Tour—Agricultural Marketing
DESCRIPTION:July 22\, 2021\nPetersburg\, Virginia\nVirginia Cooperative Extension Small Farm Outreach Program is offering a bus tour for veterans to Raleigh State Farmers Market. The full-day event is focused on Agricultural Marketing\, and registration is limited.
URL:https://regenerativeagideanetwork.org/event/veteran-bus-tour-agricultural-marketing/
END:VEVENT
BEGIN:VEVENT
DTSTART;TZID=America/Chicago:20210722T083000
DTEND;TZID=America/Chicago:20210722T130000
DTSTAMP:20260421T184158
CREATED:20210630T145530Z
LAST-MODIFIED:20210630T145530Z
UID:7274-1626942600-1626958800@regenerativeagideanetwork.org
SUMMARY:Organic Row Crops Plus Prairie Restoration
DESCRIPTION:July 22\, 2021\nMadison\, South Dakota\nThis MOSES Organic Field Day is hosted by Johnson Farms. At this free half-day event\, see what it takes to grow large-acreage row crops in an organic system. Also\, learn about South Dakota State University’s organic oat trials on the farm\, as well as the project to restore South Dakota grassland to its native prairie state.
URL:https://regenerativeagideanetwork.org/event/organic-row-crops-plus-prairie-restoration/
END:VEVENT
BEGIN:VEVENT
DTSTART;VALUE=DATE:20210723
DTEND;VALUE=DATE:20210724
DTSTAMP:20260421T184158
CREATED:20210630T145530Z
LAST-MODIFIED:20210630T145530Z
UID:7275-1626998400-1627084799@regenerativeagideanetwork.org
SUMMARY:Ohio Grape Industries Committee Enology Research
DESCRIPTION:The Ohio Grape Industries Committee is requesting proposals for enology research projects. The competitive enology research grant program will provide $90\,000 each fiscal year for innovative applied and basic enology research projects that strive to enhance and improve the quality of Ohio wines and grape products made from midwestern-grown grapes\, juice\, and/or bulk wine. Principal investigators may be located within or outside of Ohio. Research partnerships and collaborative projects are strongly encouraged.\nApplications are due by July 23\, 2021.
URL:https://regenerativeagideanetwork.org/event/ohio-grape-industries-committee-enology-research/
CATEGORIES:Funding Opportunities
END:VEVENT
END:VCALENDAR