BEGIN:VCALENDAR
VERSION:2.0
PRODID:-//REGAIN - ECPv6.10.2//NONSGML v1.0//EN
CALSCALE:GREGORIAN
METHOD:PUBLISH
X-ORIGINAL-URL:https://regenerativeagideanetwork.org
X-WR-CALDESC:Events for REGAIN
REFRESH-INTERVAL;VALUE=DURATION:PT1H
X-Robots-Tag:noindex
X-PUBLISHED-TTL:PT1H
BEGIN:VTIMEZONE
TZID:America/Chicago
BEGIN:DAYLIGHT
TZOFFSETFROM:-0600
TZOFFSETTO:-0500
TZNAME:CDT
DTSTART:20200308T080000
END:DAYLIGHT
BEGIN:STANDARD
TZOFFSETFROM:-0500
TZOFFSETTO:-0600
TZNAME:CST
DTSTART:20201101T070000
END:STANDARD
END:VTIMEZONE
BEGIN:VTIMEZONE
TZID:America/New_York
BEGIN:DAYLIGHT
TZOFFSETFROM:-0500
TZOFFSETTO:-0400
TZNAME:EDT
DTSTART:20200308T070000
END:DAYLIGHT
BEGIN:STANDARD
TZOFFSETFROM:-0400
TZOFFSETTO:-0500
TZNAME:EST
DTSTART:20201101T060000
END:STANDARD
END:VTIMEZONE
BEGIN:VEVENT
DTSTART;TZID=America/Chicago:20200505T173000
DTEND;TZID=America/Chicago:20200505T183000
DTSTAMP:20260422T093833
CREATED:20200505T151537Z
LAST-MODIFIED:20200505T151646Z
UID:1784-1588699800-1588703400@regenerativeagideanetwork.org
SUMMARY:Webinar: Warm Season Cover Crops
DESCRIPTION:Keith Berns and Brett Peshek will discuss a variety of warm season legumes\, grasses\, and broadleaves and talk about how these fit into different situations.
URL:https://regenerativeagideanetwork.org/event/webinar-warm-season-cover-crops/
CATEGORIES:Webinar
END:VEVENT
BEGIN:VEVENT
DTSTART;TZID=America/Chicago:20200505T190000
DTEND;TZID=America/Chicago:20200505T203000
DTSTAMP:20260422T093833
CREATED:20200504T140645Z
LAST-MODIFIED:20200504T141337Z
UID:1748-1588705200-1588710600@regenerativeagideanetwork.org
SUMMARY:Webinar: "Marketing: How to Launch Perishable Shipping Business From Scratch"
DESCRIPTION:“Marketing: How to Launch Perishable Shipping Business From Scratch”\nA webinar by Understanding Ag\nSpeakers: Blaine Hitzfield and Brooks Hitzfield\, Seven Sons Farms\nMay 5\, 2020Â \n7:00 – 8:30 pm centralÂ \nRegistration Fee $25 (non-refundable)\n\n\n\n\n\n\nBlaine Hitzfield\,Â CEO of Marketing & Distribution\n\n\nBlaine has spent his life working on the family farm. During high school Blaine pursued an interest in multimedia design and marketing. Blaine’s interest in marketing served as an integral part of helping his family develop a direct marketing business. Today Blaine is employed full time at Seven Sons and is responsible for overseeing daily marketing and distribution activities. Blaine enjoys sharing the Seven Sons story by speaking to consumer and producer groups and has offered consulting to numerous direct marketers and has written for Allan Nation’s Stockman Grass Farmer. \n\n\n\nBrooks Hitzfield\,Â COO of Marketing & Distribution \n\nBrooks chose to join our team taking a full time position in 2014. His core responsibilities include managing daily accounting activities as well as heading up our email and phone support. Each week Brooks is also working directly with our fulfillment team as well as our club leaders to coordinate our packing and delivery logistics. He also plays an intricate role in business development and strategic planning. Brooks’s attention to detail and unique ability to effectively manage the many moving parts of our operation make him a valuable asset to our team.
URL:https://regenerativeagideanetwork.org/event/webinar-marketing-how-to-launch-perishable-shipping-business-from-scratch/
CATEGORIES:Webinar
END:VEVENT
BEGIN:VEVENT
DTSTART;TZID=America/New_York:20200507T120000
DTEND;TZID=America/New_York:20200507T130000
DTSTAMP:20260422T093833
CREATED:20200506T211019Z
LAST-MODIFIED:20200512T205539Z
UID:1788-1588852800-1588856400@regenerativeagideanetwork.org
SUMMARY:PASA COVID-19 Weekly Farmer Forum
DESCRIPTION:Pennsylvania Association for Sustainable Agriculture (PASA) is hosting a virtual forum for farmers and markets as we all work together to adapt our operations and business plans during the coronavirus pandemic. \nThese lunchtime\, one-hour forums will focus on a different theme each week while still leaving time for general updates and questions. \nTopics will be determined in advance of each forum based on timely issues and frequently asked questions. If youâ€™d like to suggest a forum topic\, email covid@pasafarming.org.
URL:https://regenerativeagideanetwork.org/event/covid-19-weekly-farmer-forum/2020-05-07/
CATEGORIES:Virtual Convening
END:VEVENT
BEGIN:VEVENT
DTSTART;TZID=America/Chicago:20200507T130000
DTEND;TZID=America/Chicago:20200507T140000
DTSTAMP:20260422T093833
CREATED:20200507T133927Z
LAST-MODIFIED:20200507T134135Z
UID:1818-1588856400-1588860000@regenerativeagideanetwork.org
SUMMARY:Webinar: Grassland Birds
DESCRIPTION:Why was 2019 a bird wakeup call? What grassland birds have the potential to thrive in Wisconsin pastures and hayfields? How do we improve essential grassland bird habitat on private lands? Whoâ€™s using grassland bird marketing labels? \nSpeakers:\nErin Giese\, Senior Research Specialist\, Cofrin Center for Biodiversity\, UW-Green Bay. Erin will present on avian diversity\, discuss the importance of birds and Wisconsin\, and highlight threats to birds and why many are declining. \nDave Sample\, Conservation Biologist with the WDNR. Dave will provide an overview of grassland birds in Wisconsin\, including their population status and trends\, identification\, ecology\, and habitat preferences. He will also discuss the role that pastures can plan in the conservation of these birds. \nLaura Judge\, MS Candidate in Agroecology\, University of Wisconsin-Madison. Laura will share tips for grassland bird friendly grazing. \nChris Wilson\, Director\, Audubon Conservation Ranching Program. Chris will explain how Audubon is empowering consumers to make a difference in grassland conservation through their bird friendly land beef label. \nSerge Koenig\, Conservationist\, Sauk County. Serge has hosted many pasture walks in Sauk County and will share some details of a 2019 Pasture Walk for the Birds!
URL:https://regenerativeagideanetwork.org/event/webinar-grassland-birds/
CATEGORIES:Webinar
END:VEVENT
BEGIN:VEVENT
DTSTART;TZID=America/Chicago:20200508T130000
DTEND;TZID=America/Chicago:20200508T140000
DTSTAMP:20260422T093833
CREATED:20200507T132021Z
LAST-MODIFIED:20200512T205156Z
UID:1806-1588942800-1588946400@regenerativeagideanetwork.org
SUMMARY:PFI Virtual Farmer Meet-Ups: Strategies for Strange Times
DESCRIPTION:Please join PFI during a one hour virtual meet-up to talk about the ongoing changes and challenges specific to your farms and markets due to COVID-19. \nPFI will be holding these every Friday at 1 p.m. for the foreseeable future. \n\nMay 8\nMay 15\nMay 22\nMay 29\nJune 5\nJune 12\n\nPFI’s intention is to provide a place for producers to share their insights\, struggles\, ideas and strategies to manage current and anticipated changes related to consumer demand\, market access\, labor\, and enhanced measures for food safety. \nMeghan Filbert (Livestock Program Manager at PFI) and Liz Kolbe (Horticulture Program Manager at PFI) will facilitate the discussion. \nFor phone callers\, here is the dial-in info:\nPhone #: (312) 626-6799\nMeeting ID: 845 445 702
URL:https://regenerativeagideanetwork.org/event/pfi-virtual-farmer-meet-ups-strategies-for-strange-times/2020-05-08/
CATEGORIES:Virtual Convening
END:VEVENT
BEGIN:VEVENT
DTSTART;TZID=America/Chicago:20200512T173000
DTEND;TZID=America/Chicago:20200512T183000
DTSTAMP:20260422T093833
CREATED:20200505T151406Z
LAST-MODIFIED:20200505T151640Z
UID:1781-1589304600-1589308200@regenerativeagideanetwork.org
SUMMARY:Webinar: Can Alternative Crops Pay?
DESCRIPTION:A panel of producers will answer common questions about growing alternative crops to corn\, beans\, and wheat.
URL:https://regenerativeagideanetwork.org/event/webinar-can-alternative-crops-pay/
CATEGORIES:Webinar
END:VEVENT
BEGIN:VEVENT
DTSTART;TZID=America/Chicago:20200512T190000
DTEND;TZID=America/Chicago:20200512T203000
DTSTAMP:20260422T093834
CREATED:20200504T135208Z
LAST-MODIFIED:20200511T180630Z
UID:1750-1589310000-1589315400@regenerativeagideanetwork.org
SUMMARY:Webinar: Regenerating Human Health: Why Nutrient Density Matters
DESCRIPTION:Sara Keough MS\, CNS\, LDN\, is an “Eco-Nutritionist” who began her career in ecological work in her home state of Colorado and now practices full-time as a clinical nutritionist in Ellicott City\, Maryland. She supports patients with a wide variety of health conditions including digestive issues\, autoimmune disorders\, heart disease\, diabetes\, and cancer. Educating patients on the value of nutrient dense foods from local farmers is vitally important in her practice as this is an essential component of the healing process for each and every patient.Â  Â By utilizing advanced micronutrient testing and omega-3 & -6 fatty acids testing for her patients\, Sara is able to identify key nutrient deficiencies in order to get to the root cause of their conditions. Sara is passionate about connecting her patients with local farms to source their food\, as she truly believes that regenerative farmers are the real healers of the planet and play a pivotal role in restoring human and ecological health.
URL:https://regenerativeagideanetwork.org/event/webinar-regenerating-human-health-why-nutrient-density-matters/
CATEGORIES:Webinar
END:VEVENT
BEGIN:VEVENT
DTSTART;TZID=America/Chicago:20200513T120000
DTEND;TZID=America/Chicago:20200513T130000
DTSTAMP:20260422T093834
CREATED:20200512T205430Z
LAST-MODIFIED:20200512T205430Z
UID:1862-1589371200-1589374800@regenerativeagideanetwork.org
SUMMARY:Webinar: COVID-19 and Small and Mid-Sized Meat Processors - Exploring the Challenges\, Solutions\, and a Path
DESCRIPTION:While COVID-19 has disrupted and exposed the vulnerability of large industrial meat processors\, it has also highlighted new and longstanding challenges faced by small and mid-sized processors. Within this context\, solutions are emerging that address the challenges in the short term and offer a path forward towards lasting change. Join Jessica Roosa from This Old Farm\, Rebecca Thistlethwaite from Niche Meat Processor Assistance Network\, and Kelly Nuckolls from National Sustainable Agriculture Coalition for a conversation to explore the impact that COVID-19 is having on small and medium sized meat processors\, how they’re adapting to these challenges\, and the changes underway to alleviate pressure and long term to ensure lasting change.
URL:https://regenerativeagideanetwork.org/event/webinar-covid-19-and-small-and-mid-sized-meat-processors-exploring-the-challenges-solutions-and-a-path/
CATEGORIES:Webinar
ORGANIZER;CN="Wallace Center":MAILTO:wallace@winrock.org
END:VEVENT
BEGIN:VEVENT
DTSTART;TZID=America/New_York:20200514T130000
DTEND;TZID=America/New_York:20200514T140000
DTSTAMP:20260422T093834
CREATED:20200512T212032Z
LAST-MODIFIED:20200512T212341Z
UID:1864-1589461200-1589464800@regenerativeagideanetwork.org
SUMMARY:Webinar: Coronavirus Food Assistance Program (CFAP) Direct Assistance to Producer
DESCRIPTION:The U.S. Department of Agriculture (USDA) Agricultural Marketing Service (AMS) and Farm Service Agency (FSA) announced the two agencies will host a webinar for farmers\, ranchers and other producers interested in applying for direct support through the Coronavirus Food Assistance Program (CFAP). This webinar is an opportunity for producers to learn about the application process and required documentation. \nUSDA is hosting this webinar to provide information on required forms and other documentation in advance of the open application period. Specialty crops producers who are new to the USDA direct payment process are especially encouraged to participate. The details of the direct payment program process will be announced soon. A recording of webinar will also be posted on farmers.gov/CFAP and the AMS website. \nAs part of a $19 billion Coronavirus Farm Assistance Program\, USDA will provide $16 billion in direct support based on actual losses for agricultural producers where prices and market supply chains have been impacted and will assist producers with additional adjustment and marketing costs resulting from lost demand and short-term oversupply for the 2020 marketing year caused by COVID-19.
URL:https://regenerativeagideanetwork.org/event/webinar-coronavirus-food-assistance-program-cfap-direct-assistance-to-producer/
CATEGORIES:Webinar
END:VEVENT
BEGIN:VEVENT
DTSTART;TZID=America/Chicago:20200514T150000
DTEND;TZID=America/Chicago:20200514T160000
DTSTAMP:20260422T093834
CREATED:20200511T180015Z
LAST-MODIFIED:20200512T205453Z
UID:1844-1589468400-1589472000@regenerativeagideanetwork.org
SUMMARY:Webinar: Launching a CSA during COVID-19 - The law on your side.
DESCRIPTION:Are you shifting your farm business to a CSA model during the time of COVID-19? As you take advantage of surging customer demand for CSA\, don’t forget to pay attention to the legal issues. We’ll cover the top things you need to do to make sure the law is on your side. Issues like insurance and liability\, zoning\, and customer sales can be handled easily\, when you know how. Don’t worry- it won’t be boring and you’ll walk away knowing exactly how to take action. Pick up resources and tips to make sure your CSA is resilient for the long haul. This webinar is taught by an experienced CSA farmer who has been there and knows how to help!
URL:https://regenerativeagideanetwork.org/event/webinar-launching-a-csa-during-covid-19-the-law-on-your-side/
CATEGORIES:Webinar
END:VEVENT
BEGIN:VEVENT
DTSTART;TZID=America/Chicago:20200515T150000
DTEND;TZID=America/Chicago:20200515T160000
DTSTAMP:20260422T093834
CREATED:20200511T180236Z
LAST-MODIFIED:20200512T205637Z
UID:1847-1589554800-1589558400@regenerativeagideanetwork.org
SUMMARY:Webinar: Adding home delivery of your farm goods\, without adding legal risks
DESCRIPTION:Providing home delivery services is the ticket to increased sales for many farms as families restrict their shopping and restaurants remain slow. But\, home delivery can introduce legal complications. As you invest in your success\, attend this webinar to make sure you’re building something that will last.\n\nThis webinar will cover the additional legal concerns that arise\, whether you are delivering your own farm products or whether you are working with your farmer and food-producing peers to create a whole-diet delivery service. From insurance to liability\, licensing\, employment law complications and zoning\, we’ll cover the top issues. And\, we cover them in a way that makes sense and helps you take action right away.
URL:https://regenerativeagideanetwork.org/event/webinar-adding-home-delivery-of-your-farm-goods-without-adding-legal-risks/
CATEGORIES:Webinar
END:VEVENT
BEGIN:VEVENT
DTSTART;TZID=America/Chicago:20200521T130000
DTEND;TZID=America/Chicago:20200521T140000
DTSTAMP:20260422T093834
CREATED:20200519T141709Z
LAST-MODIFIED:20200519T141731Z
UID:1883-1590066000-1590069600@regenerativeagideanetwork.org
SUMMARY:PFI Virtual Meet-up for Beginning Farmers
DESCRIPTION:Join other beginning and aspiring farmers to take a quick break from farm work and instead\, virtually gather to socialize! \nThe purpose of this meet-up is to create a supportive upbeat space for farmers to share and connect during these times of uncertainty. Build your farming network and learn from others who have similar (or different!) farm ventures than you. \nLetâ€™s see who has the funkiest farm or ag-related shirt! Wear your favorite farm or ag-related shirt on the call when you join-in.
URL:https://regenerativeagideanetwork.org/event/pfi-virtual-meet-up-for-beginning-farmers/
CATEGORIES:Virtual Convening
END:VEVENT
BEGIN:VEVENT
DTSTART;TZID=America/Chicago:20200528T120000
DTEND;TZID=America/Chicago:20200528T130000
DTSTAMP:20260422T093834
CREATED:20200526T133013Z
LAST-MODIFIED:20200526T133013Z
UID:1900-1590667200-1590670800@regenerativeagideanetwork.org
SUMMARY:Webinar: Grass-fed Genetics
DESCRIPTION:What makes a good grass-fed cow?\nJoin PASA for a presentation and conversation with organic\, grass-fed dairy farmer Ron Holter\, of Frederick County\, Maryland\, as he attempts to answer this question. Ron will present on his multi-generational grazing dairy farm in Maryland\, including his work developing grass-fed genetics for his herd and others. Ron has been grazing cows since 1995 and certified organic since 2005. He began line-breeding in his herd in 2006\, and developed his first bull for marketing grass-fed genetics the same year he transitioned to 100% grass on the farm\, in 2007. The webinar will end with a conversation and attendee questions. \nThis webinar is being offered free of charge through support from a USDA Beginning Farmer and Rancher Development Grant.
URL:https://regenerativeagideanetwork.org/event/webinar-grass-fed-genetics/
CATEGORIES:Webinar
END:VEVENT
END:VCALENDAR