BEGIN:VCALENDAR
VERSION:2.0
PRODID:-//REGAIN - ECPv6.10.2//NONSGML v1.0//EN
CALSCALE:GREGORIAN
METHOD:PUBLISH
X-ORIGINAL-URL:https://regenerativeagideanetwork.org
X-WR-CALDESC:Events for REGAIN
REFRESH-INTERVAL;VALUE=DURATION:PT1H
X-Robots-Tag:noindex
X-PUBLISHED-TTL:PT1H
BEGIN:VTIMEZONE
TZID:America/Chicago
BEGIN:DAYLIGHT
TZOFFSETFROM:-0600
TZOFFSETTO:-0500
TZNAME:CDT
DTSTART:20200308T080000
END:DAYLIGHT
BEGIN:STANDARD
TZOFFSETFROM:-0500
TZOFFSETTO:-0600
TZNAME:CST
DTSTART:20201101T070000
END:STANDARD
END:VTIMEZONE
BEGIN:VEVENT
DTSTART;TZID=America/Chicago:20200610T140000
DTEND;TZID=America/Chicago:20200610T150000
DTSTAMP:20260422T080315
CREATED:20200610T135154Z
LAST-MODIFIED:20200610T135154Z
UID:2074-1591797600-1591801200@regenerativeagideanetwork.org
SUMMARY:WEBINAR: How to Treat Your Cover Crop Like a Cash Crop
DESCRIPTION:In this nuts and bolts webinar\, Dr. Andrea Basche will discuss strategies to boost cover crop benefits\, such as ideas for maximizing biomass growth for grazing. Tune in to learn more about why treating your cover crop like your cash crop can pay dividends! \n  \nAndrea Basche is an assistant professor in Cropping Systems at the University of Nebraska-Lincolnâ€™s Department of Agronomy and Horticulture Department. Her research focus is on the agronomic benefits and tradeoffs of diversified cropping systems including perennial crops and cover crops. She also has experience researching the opportunities that improved soil health offers for managing water related risks\, such as floods and droughts. In her role\, she is also teaching undergraduate courses in crop management. Basche holds a B.S. in biology from Fordham University\, an M.A. in applied climate science from Columbia University\, and a Ph.D. in agronomy and sustainable agriculture from Iowa State University.
URL:https://regenerativeagideanetwork.org/event/webinar-how-to-treat-your-cover-crop-like-a-cash-crop/
CATEGORIES:Webinar
ORGANIZER;CN="Pasture Project":MAILTO:pastureproject@winrock.org
END:VEVENT
BEGIN:VEVENT
DTSTART;TZID=America/Chicago:20200617T110000
DTEND;TZID=America/Chicago:20200617T120000
DTSTAMP:20260422T080315
CREATED:20200617T150002Z
LAST-MODIFIED:20200617T150027Z
UID:2246-1592391600-1592395200@regenerativeagideanetwork.org
SUMMARY:Office Hours with PFI
DESCRIPTION:Join Meghan Filbert and the Wallace Center team for a discussion of PFIâ€™s experience hosting virtual field days. Weâ€™ll have time for discussion and Q&A with Meghan\, and then move into a broader conversation about Office Hours on REGAIN.
URL:https://regenerativeagideanetwork.org/event/office-hours-with-pfi/
CATEGORIES:Office Hours
ORGANIZER;CN="Wallace Center":MAILTO:wallace@winrock.org
END:VEVENT
END:VCALENDAR