BEGIN:VCALENDAR
VERSION:2.0
PRODID:-//REGAIN - ECPv6.10.2//NONSGML v1.0//EN
CALSCALE:GREGORIAN
METHOD:PUBLISH
X-ORIGINAL-URL:https://regenerativeagideanetwork.org
X-WR-CALDESC:Events for REGAIN
REFRESH-INTERVAL;VALUE=DURATION:PT1H
X-Robots-Tag:noindex
X-PUBLISHED-TTL:PT1H
BEGIN:VTIMEZONE
TZID:America/Chicago
BEGIN:DAYLIGHT
TZOFFSETFROM:-0600
TZOFFSETTO:-0500
TZNAME:CDT
DTSTART:20200308T080000
END:DAYLIGHT
BEGIN:STANDARD
TZOFFSETFROM:-0500
TZOFFSETTO:-0600
TZNAME:CST
DTSTART:20201101T070000
END:STANDARD
END:VTIMEZONE
BEGIN:VEVENT
DTSTART;TZID=America/Chicago:20200702T130000
DTEND;TZID=America/Chicago:20200702T140000
DTSTAMP:20260422T062830
CREATED:20200624T211111Z
LAST-MODIFIED:20200624T211204Z
UID:2439-1593694800-1593698400@regenerativeagideanetwork.org
SUMMARY:Food Systems Mapping 101: Tools and Skills
DESCRIPTION:Mapping can be a great tool for understanding whatâ€™s happening in your community. However\, there are lots of tools to choose from when making a map. Next up in a series on food systems mapping\, join us for a call to learn about the available data sets and mapping platforms\, and how to find the right tools for your needs. Speakers Carolyn Talmadge from Tufts University and Cynthia Caul from Chatham will join Wallace Center staff to share their expertise and introduce you to some tools to help create useful and effective food systems maps.
URL:https://regenerativeagideanetwork.org/event/food-systems-mapping-101-tools-and-skills/
CATEGORIES:Webinar
END:VEVENT
BEGIN:VEVENT
DTSTART;TZID=America/Chicago:20200721T190000
DTEND;TZID=America/Chicago:20200721T200000
DTSTAMP:20260422T062830
CREATED:20200720T134248Z
LAST-MODIFIED:20200720T135308Z
UID:2519-1595358000-1595361600@regenerativeagideanetwork.org
SUMMARY:Savannah Institute Webinar: Grafting with Kathy Dice and Tom Wahl\, Red Fern Farm
DESCRIPTION:Topics covered will include nursery overview\, transplanting trees\, collecting Scion wood and barn door grafting\, and proper care for your graft.
URL:https://regenerativeagideanetwork.org/event/savannah-institute-webinar-grafting-with-kathy-dice-and-tom-wahl-red-fern-farm/
CATEGORIES:Webinar
END:VEVENT
BEGIN:VEVENT
DTSTART;TZID=America/Chicago:20200722T124500
DTEND;TZID=America/Chicago:20200722T140000
DTSTAMP:20260422T062830
CREATED:20200720T134924Z
LAST-MODIFIED:20200720T134924Z
UID:2522-1595421900-1595426400@regenerativeagideanetwork.org
SUMMARY:MOSES Virtual Field Day: Kernza Trial Results
DESCRIPTION:Since 2011\, farmer and MOSES Organic Specialist Carmen Fernholz has been growing KernzaÂ®\, the perennial grain being developed by researchers at the Land Institute and the Forever Green Initiative at the University of Minnesota. \nFor this virtual field day\, Carmen and the researchers will explain the characteristics and production of this unique perennial wheatgrass. Weâ€™ll post video chapters here in the weeks leading up to the live Zoom meeting. Watch the videos in advance and then join us July 22 to get answers to your questions about KernzaÂ®. Register now and weâ€™ll send you a notice when we post new chapters.
URL:https://regenerativeagideanetwork.org/event/moses-virtual-field-day-kernza-trial-results/
CATEGORIES:Virtual Field Day
END:VEVENT
BEGIN:VEVENT
DTSTART;TZID=America/Chicago:20200723T140000
DTEND;TZID=America/Chicago:20200723T150000
DTSTAMP:20260422T062830
CREATED:20200720T152257Z
LAST-MODIFIED:20200720T152257Z
UID:2536-1595512800-1595516400@regenerativeagideanetwork.org
SUMMARY:Fix Your Mix: Using Management Goals to Create Diverse Cover Crop Seed Mixes
DESCRIPTION:Join Pasture Project and Keith Berns of Green Cover Seed for a free webinar on cover crop seed mix design from beginning to end. The webinar will include a discussion of cover crop management goals and a walk-through of Green Cover Seed’s SmartMix calculator.
URL:https://regenerativeagideanetwork.org/event/fix-your-mix-using-management-goals-to-create-diverse-cover-crop-seed-mixes/
CATEGORIES:Webinar
ORGANIZER;CN="Pasture Project":MAILTO:pastureproject@winrock.org
END:VEVENT
BEGIN:VEVENT
DTSTART;TZID=America/Chicago:20200728T140000
DTEND;TZID=America/Chicago:20200728T150000
DTSTAMP:20260422T062830
CREATED:20200720T135741Z
LAST-MODIFIED:20200720T135741Z
UID:2526-1595944800-1595948400@regenerativeagideanetwork.org
SUMMARY:NCAT Webinar: Payments for Ecosystem Services
DESCRIPTION:Since the 1960s\, there has been discussion among academics about paying farmers for their contribution to a healthier environment. Today\, programs make this concept a reality: payments reward farmers for improved and maintained ecosystem services\, or the benefits that society receives from the environment\, such as clean water\, food\, air quality\, disease regulation\, and more. During this webinar NCAT Sustainable Agriculture Specialist Colin Mitchell will guide you through the history of payments for ecosystem service programs and different types of payments farmers and ranchers can receive for improving or maintaining ecosystem services including: \nâ€¢ Direct Payments \nâ€¢ Certification Programs \nâ€¢ Tax Incentives \nâ€¢ Ecosystem Service Markets \nColin will also be providing a set of factors farmers and ranchers should consider before participating in any type of payment for ecosystem service program. The webinar will also feature a 15 minute Q & A. \nThis webinar is part one of a three part series focused on payments for ecosystem services and is part of a project conducted in collaboration with Dr. Barbara Bellows of Tarleton State University and the Texas Institute of Applied Environmental Research. The project is funded by Southern Sustainable Agriculture Research and Education (SSARE) through research and education grant LS17-277\, Indicators and Soil Conservation Practices for Soil Health and Carbon Sequestration. A special thanks to Dr. Bellows and SSARE.
URL:https://regenerativeagideanetwork.org/event/ncat-webinar-payments-for-ecosystem-services/
CATEGORIES:Webinar
END:VEVENT
END:VCALENDAR