BEGIN:VCALENDAR
VERSION:2.0
PRODID:-//REGAIN - ECPv6.10.2//NONSGML v1.0//EN
CALSCALE:GREGORIAN
METHOD:PUBLISH
X-ORIGINAL-URL:https://regenerativeagideanetwork.org
X-WR-CALDESC:Events for REGAIN
REFRESH-INTERVAL;VALUE=DURATION:PT1H
X-Robots-Tag:noindex
X-PUBLISHED-TTL:PT1H
BEGIN:VTIMEZONE
TZID:America/Chicago
BEGIN:DAYLIGHT
TZOFFSETFROM:-0600
TZOFFSETTO:-0500
TZNAME:CDT
DTSTART:20200308T080000
END:DAYLIGHT
BEGIN:STANDARD
TZOFFSETFROM:-0500
TZOFFSETTO:-0600
TZNAME:CST
DTSTART:20201101T070000
END:STANDARD
END:VTIMEZONE
BEGIN:VEVENT
DTSTART;VALUE=DATE:20201201
DTEND;VALUE=DATE:20201205
DTSTAMP:20260421T230401
CREATED:20200929T160929Z
LAST-MODIFIED:20200929T160929Z
UID:2780-1606780800-1607126399@regenerativeagideanetwork.org
SUMMARY:ACRES Eco-Ag Conference & Trade Show
DESCRIPTION:This educational experience and trade show\, now in its 45th year\, unites farmers\, ranchers and ag professionals from every facet of eco-farming to share their experience and expertise. You will learn useful\, practical information that they can apply to your operations.Â Register.
URL:https://regenerativeagideanetwork.org/event/acres-eco-ag-conference-trade-show/
CATEGORIES:Virtual Conference
END:VEVENT
BEGIN:VEVENT
DTSTART;VALUE=DATE:20201206
DTEND;VALUE=DATE:20201210
DTSTAMP:20260421T230401
CREATED:20201029T213957Z
LAST-MODIFIED:20201029T213957Z
UID:3314-1607212800-1607558399@regenerativeagideanetwork.org
SUMMARY:Perennial Farm Gathering
DESCRIPTION:The Savanna Institute’s 2020 Perennial Farm Gathering will be held entirely online\, Dec. 6th-9th. This event brings together agroforestry farmers\, researchers\, and enthusiasts throughout the Midwest. Learn more and register at http://www.savannainstitute.org/2020-pfgb
URL:https://regenerativeagideanetwork.org/event/perennial-farm-gathering/
CATEGORIES:Virtual Conference
ATTACH;FMTTYPE=image/png:https://regenerativeagideanetwork.org/wp-content/uploads/2020/10/PerennialFarmGathering2020announcement.png
END:VEVENT
BEGIN:VEVENT
DTSTART;TZID=America/Chicago:20201210T130000
DTEND;TZID=America/Chicago:20201210T140000
DTSTAMP:20260421T230401
CREATED:20201116T182946Z
LAST-MODIFIED:20201116T182946Z
UID:3452-1607605200-1607608800@regenerativeagideanetwork.org
SUMMARY:Helping Farmers Help the Land Through Climate Smart Farming
DESCRIPTION:Participants will learn about how the climate has changed over the last 125 years and how to help farmers adapt to those changes by improving natural resources. Producers can adapt to these changes by doing four things which will be explained in this webinar: assess landscape vulnerability\, improve soil health\, increase the heath and diversity of biological organisms\, and conserve resources and reduce greenhouse gas emissions. Hosted by USDA NRCS
URL:https://regenerativeagideanetwork.org/event/helping-farmers-help-the-land-through-climate-smart-farming/
CATEGORIES:Training/Workshop,Webinar
ATTACH;FMTTYPE=image/png:https://regenerativeagideanetwork.org/wp-content/uploads/2020/11/USDA-Pic.png
END:VEVENT
END:VCALENDAR