BEGIN:VCALENDAR
VERSION:2.0
PRODID:-//REGAIN - ECPv6.10.2//NONSGML v1.0//EN
CALSCALE:GREGORIAN
METHOD:PUBLISH
X-ORIGINAL-URL:https://regenerativeagideanetwork.org
X-WR-CALDESC:Events for REGAIN
REFRESH-INTERVAL;VALUE=DURATION:PT1H
X-Robots-Tag:noindex
X-PUBLISHED-TTL:PT1H
BEGIN:VTIMEZONE
TZID:America/Los_Angeles
BEGIN:DAYLIGHT
TZOFFSETFROM:-0800
TZOFFSETTO:-0700
TZNAME:PDT
DTSTART:20210314T100000
END:DAYLIGHT
BEGIN:STANDARD
TZOFFSETFROM:-0700
TZOFFSETTO:-0800
TZNAME:PST
DTSTART:20211107T090000
END:STANDARD
END:VTIMEZONE
BEGIN:VTIMEZONE
TZID:America/New_York
BEGIN:DAYLIGHT
TZOFFSETFROM:-0500
TZOFFSETTO:-0400
TZNAME:EDT
DTSTART:20210314T070000
END:DAYLIGHT
BEGIN:STANDARD
TZOFFSETFROM:-0400
TZOFFSETTO:-0500
TZNAME:EST
DTSTART:20211107T060000
END:STANDARD
END:VTIMEZONE
BEGIN:VTIMEZONE
TZID:America/Denver
BEGIN:DAYLIGHT
TZOFFSETFROM:-0700
TZOFFSETTO:-0600
TZNAME:MDT
DTSTART:20210314T090000
END:DAYLIGHT
BEGIN:STANDARD
TZOFFSETFROM:-0600
TZOFFSETTO:-0700
TZNAME:MST
DTSTART:20211107T080000
END:STANDARD
END:VTIMEZONE
BEGIN:VTIMEZONE
TZID:America/Chicago
BEGIN:DAYLIGHT
TZOFFSETFROM:-0600
TZOFFSETTO:-0500
TZNAME:CDT
DTSTART:20210314T080000
END:DAYLIGHT
BEGIN:STANDARD
TZOFFSETFROM:-0500
TZOFFSETTO:-0600
TZNAME:CST
DTSTART:20211107T070000
END:STANDARD
END:VTIMEZONE
BEGIN:VTIMEZONE
TZID:America/Chicago
BEGIN:DAYLIGHT
TZOFFSETFROM:-0600
TZOFFSETTO:-0500
TZNAME:CDT
DTSTART:20210314T080000
END:DAYLIGHT
BEGIN:STANDARD
TZOFFSETFROM:-0500
TZOFFSETTO:-0600
TZNAME:CST
DTSTART:20211107T070000
END:STANDARD
END:VTIMEZONE
BEGIN:VEVENT
DTSTART;TZID=America/Los_Angeles:20210601T120000
DTEND;TZID=America/Los_Angeles:20210601T133000
DTSTAMP:20260421T135038
CREATED:20210510T165256Z
LAST-MODIFIED:20210510T211023Z
UID:6656-1622548800-1622554200@regenerativeagideanetwork.org
SUMMARY:Digging into Research of Small-Scale No-Till Farming Systems
DESCRIPTION:Ecological Farming Association’s Dirt First Conversation Series continues with this session on where you can learn about the latest research in small-scale\, intensive\, minimal-disturbance\, ecological farming systems. Since 2017\, the Community Alliance with Family Farmers has been working with Singing Frogs Farm\, Hillview Farms\, and others\, to carry out on-farm research of the soil health impacts of their farming systems. At the same time\, the Bowles Laboratory at UC Berkeley has conducted a 3-year experiment looking at the effects of key practices of these farming systems. After several years of soil health data collection\, these two groups are now ready to discuss their respective research findings\, as well as their experiences working with rural and urban farmers who have implemented these farming systems.
URL:https://regenerativeagideanetwork.org/event/digging-into-research-of-small-scale-no-till-farming-systems/
LOCATION:Online\, DC
CATEGORIES:Webinar
END:VEVENT
BEGIN:VEVENT
DTSTART;TZID=America/New_York:20210602T120000
DTEND;TZID=America/New_York:20210602T130000
DTSTAMP:20260421T135038
CREATED:20210510T165256Z
LAST-MODIFIED:20210510T210917Z
UID:6657-1622635200-1622638800@regenerativeagideanetwork.org
SUMMARY:The Path to Organic Certification on a Diversified Vegetable Farm
DESCRIPTION:Organic Association of Kentucky is presenting this free virtual field day from Old Homeplace Farm in Oneida\, Kentucky. Maggie Bowling has dialed in her production systems; her vegetable CSA\, online store\, local delivery\, and restaurant sales are running smoothly; and she’s transitioning the operation to Certified Organic status. Join in for this virtual walk through Maggie’s vegetable operation and the steps\, challenges\, and triumphs she’s facing in the process to organic certification and growing her family farm business.
URL:https://regenerativeagideanetwork.org/event/the-path-to-organic-certification-on-a-diversified-vegetable-farm/
LOCATION:Online\, DC
CATEGORIES:Virtual Field Day
END:VEVENT
BEGIN:VEVENT
DTSTART;TZID=America/Denver:20210608T180000
DTEND;TZID=America/Denver:20210608T200000
DTSTAMP:20260421T135038
CREATED:20210510T165257Z
LAST-MODIFIED:20210510T210741Z
UID:6661-1623175200-1623182400@regenerativeagideanetwork.org
SUMMARY:Farm Dreams
DESCRIPTION:At a time when small farming is steadily becoming a viable career path for many people\, it is important to understand what that path looks like\, and what demands\, pitfalls\, and rewards await those that heed the call of the land. That is what the Farm Dreams workshop series aims to explore. \nFarm Dreams is an online workshop series for aspiring farmers\, helping them discover what it would really take to start a farm business. Each session includes exercises to help assess skills and resources\, and provide direction for next steps in building a farm business. We’ll be joined by local farmers to share their experience in turning their farm dreams into farm reality! \nSCHEDULE\nTuesday\, June 8\, 2021 | 6:00-8:00 pm CDT | Online\nAssessing Readiness \nTuesday\, June 15\, 2021 | 6:00-8:00 pm CDT | Online\nBuilding a Dream \nTuesday\, June 22\, 2021 | 6:00-8:00 pm CDT | Online\nCreating a Plan
URL:https://regenerativeagideanetwork.org/event/farm-dreams/2021-06-08/
LOCATION:Online\, DC
CATEGORIES:Training/Workshop
END:VEVENT
BEGIN:VEVENT
DTSTART;TZID=America/Chicago:20210617T113000
DTEND;TZID=America/Chicago:20210617T123000
DTSTAMP:20260421T135038
CREATED:20210126T222718Z
LAST-MODIFIED:20210510T212039Z
UID:3973-1623929400-1623933000@regenerativeagideanetwork.org
SUMMARY:Ownership Pathways in Agroforestry
DESCRIPTION:Alley cropping offers exciting possibilities for multiple farmers operating in partnership on the same land. This webinar will explore long-term partnerships between tree crop farmers and alley crop farmers\, with special focus on rent dynamics and the long-term planning required when integrating trees into agricultural settings. Alley cropping systems explored will include chestnuts\, small fruits\, and timber. \nPatrick Michaels\, Business Analyst at the Savanna Institute\, works to develop enterprise budgets for agroforestry systems and business models that will catalyze the widespread adoption of agroforestry in the Midwest.
URL:https://regenerativeagideanetwork.org/event/ownership-pathways-in-agroforestry/
LOCATION:Online\, DC
CATEGORIES:Webinar
END:VEVENT
BEGIN:VEVENT
DTSTART;TZID=America/Chicago:20210617T113000
DTEND;TZID=America/Chicago:20210617T123000
DTSTAMP:20260421T135038
CREATED:20210519T151800Z
LAST-MODIFIED:20210630T145255Z
UID:6954-1623929400-1623933000@regenerativeagideanetwork.org
SUMMARY:Ownership pathways in Agroforestry
DESCRIPTION:Alley cropping offers exciting possibilities for multiple farmers operating in partnership on the same land. This webinar will explore long-term partnerships between tree crop farmers and alley crop farmers\, with special focus on rent dynamics and the long-term planning required when integrating trees into agricultural settings. Alley cropping systems explored will include chestnuts\, small fruits\, and timber. \nPatrick Michaels\, Business Analyst at the Savanna Institute\, works to develop enterprise budgets for agroforestry systems and business models that will catalyze the widespread adoption of agroforestry in the Midwest.
URL:https://regenerativeagideanetwork.org/event/ownership-pathways-in-agroforestry-2/
CATEGORIES:Webinar
END:VEVENT
BEGIN:VEVENT
DTSTART;VALUE=DATE:20210628
DTEND;VALUE=DATE:20210703
DTSTAMP:20260421T135038
CREATED:20210414T142758Z
LAST-MODIFIED:20210414T142822Z
UID:6290-1624838400-1625270399@regenerativeagideanetwork.org
SUMMARY:North American Agroforestry Conference:
DESCRIPTION:The 2021 North American Agroforestry Conference will bring together farmers\, landowners\, researchers\, climate scientists\, investors\, philanthropists\, policymakers\, and global leaders on climate change\, carbon drawdown\, and agroforestry. Together we will tackle the major barriers to scaling agroforestry\, focusing on solutions and action.
URL:https://regenerativeagideanetwork.org/event/north-american-agroforestry-conference/
LOCATION:Online\, DC
CATEGORIES:Virtual Conference
END:VEVENT
BEGIN:VEVENT
DTSTART;VALUE=DATE:20210630
DTEND;VALUE=DATE:20210701
DTSTAMP:20260421T135038
CREATED:20210630T145520Z
LAST-MODIFIED:20210630T145520Z
UID:7224-1625011200-1625097599@regenerativeagideanetwork.org
SUMMARY:California Conservation Agreements
DESCRIPTION:USDA Natural Resources Conservation Service in California is accepting applications for Conservation Agreements from $30\,000 to $75\,000 to address specific conservation objectives. Emphasis will be placed on projects that provide technical assistance to NRCS staff in the implementation of Farm Bill conservation programs. NRCS anticipates 10 agreements. NRCS seeks collaboration with conservation partners and outside entities to perform conservation planning on private lands and complete conservation plans under NRCS conservation planning policy.\nApplications are due by June 30\, 2021.
URL:https://regenerativeagideanetwork.org/event/california-conservation-agreements/
CATEGORIES:Funding Opportunities
END:VEVENT
BEGIN:VEVENT
DTSTART;TZID=America/New_York:20210630T120000
DTEND;TZID=America/New_York:20210630T130000
DTSTAMP:20260421T135038
CREATED:20210630T145521Z
LAST-MODIFIED:20210630T145521Z
UID:7226-1625054400-1625058000@regenerativeagideanetwork.org
SUMMARY:Your Land and Legacy: Resources for Agricultural Landowners
DESCRIPTION:June 30\, 2021\nOnline\nThis free\, one-hour webinar will provide information for non-operating agricultural landowners to enable better planning and coordination with their farm operators to enhance soil health\, soil and water conservation\, and improved crop productivity. Presenters include Sarah Everhart\, Steve Groff\, and Lisa Blazure.
URL:https://regenerativeagideanetwork.org/event/your-land-and-legacy-resources-for-agricultural-landowners/
END:VEVENT
END:VCALENDAR