BEGIN:VCALENDAR
VERSION:2.0
PRODID:-//REGAIN - ECPv6.10.2//NONSGML v1.0//EN
CALSCALE:GREGORIAN
METHOD:PUBLISH
X-ORIGINAL-URL:https://regenerativeagideanetwork.org
X-WR-CALDESC:Events for REGAIN
REFRESH-INTERVAL;VALUE=DURATION:PT1H
X-Robots-Tag:noindex
X-PUBLISHED-TTL:PT1H
BEGIN:VTIMEZONE
TZID:America/Chicago
BEGIN:DAYLIGHT
TZOFFSETFROM:-0600
TZOFFSETTO:-0500
TZNAME:CDT
DTSTART:20200308T080000
END:DAYLIGHT
BEGIN:STANDARD
TZOFFSETFROM:-0500
TZOFFSETTO:-0600
TZNAME:CST
DTSTART:20201101T070000
END:STANDARD
END:VTIMEZONE
BEGIN:VEVENT
DTSTART;TZID=America/Chicago:20200331T140000
DTEND;TZID=America/Chicago:20200331T150000
DTSTAMP:20260422T152011
CREATED:20200313T005038Z
LAST-MODIFIED:20200422T200741Z
UID:438-1585663200-1585666800@regenerativeagideanetwork.org
SUMMARY:Webinar: MYTHBUSTERS â€“ Grazing Cover Crops
DESCRIPTION:Join Pasture Project and Meghan Filbert of PFI for a webinar on the common myths about grazing cover crops. We will discuss information from recent grazing cover crop field trials and the experiences of farmers using the practice. Does grazing cover crops cause soil compaction? Can you terminate cover crops with livestock impact? Tune in to find out!
URL:https://regenerativeagideanetwork.org/event/mythbusters-webinar-w-meghan-filbert/
CATEGORIES:Webinar
END:VEVENT
BEGIN:VEVENT
DTSTART;TZID=America/Chicago:20200402T183000
DTEND;TZID=America/Chicago:20200402T193000
DTSTAMP:20260422T152011
CREATED:20200401T195357Z
LAST-MODIFIED:20200422T200721Z
UID:781-1585852200-1585855800@regenerativeagideanetwork.org
SUMMARY:Webinar: The â€˜rhizophagy cycleâ€™: How plants harvest nutrients from microbes
DESCRIPTION:Hosted by the Soil Health Academy\nJames Francis White\, Jr.\, Ph.D.\nApril 2\, 2020\n6:30 – 7:30 p.m. central\nPlants extract nutrients from soil microorganisms (mostly bacteria) in roots through a process known as the â€œrhizophagy cycle.â€ But how and why does this exchange occur? In an upcoming Understanding Ag webinar\, Rutgers University Professor James Francis White\, Jr.\, Ph.D.\, will share his research and insights on how plants cultivate soil microbes and acquire nutrients from them through this fascinating process. â€œBy learning more about the â€˜rhizophagy cycle\,â€™ farmers will learn why itâ€™s important to create and maintain healthy soils with a diverse soil microbial community\,â€ White says.â€œPlants obtain nutrients from soil microbes\, so soils should be managed to retain a healthy microbial community\,â€ he says. â€œSeeds should not be treated in any way that reduced microbes on seed surfaces and microbes themselves may be used to manage diseases of crops.â€Join us for an intriguing look into this remarkable underground exchange that will provide even more incentives for you to care for your nutrient-delivering\, microbial business partners.
URL:https://regenerativeagideanetwork.org/event/webinar-the-rhizophagy-cycle-how-plants-harvest-nutrients-from-microbes/
CATEGORIES:Webinar
END:VEVENT
END:VCALENDAR