BEGIN:VCALENDAR
VERSION:2.0
PRODID:-//REGAIN - ECPv6.10.2//NONSGML v1.0//EN
CALSCALE:GREGORIAN
METHOD:PUBLISH
X-ORIGINAL-URL:https://regenerativeagideanetwork.org
X-WR-CALDESC:Events for REGAIN
REFRESH-INTERVAL;VALUE=DURATION:PT1H
X-Robots-Tag:noindex
X-PUBLISHED-TTL:PT1H
BEGIN:VTIMEZONE
TZID:America/Chicago
BEGIN:DAYLIGHT
TZOFFSETFROM:-0600
TZOFFSETTO:-0500
TZNAME:CDT
DTSTART:20200308T080000
END:DAYLIGHT
BEGIN:STANDARD
TZOFFSETFROM:-0500
TZOFFSETTO:-0600
TZNAME:CST
DTSTART:20201101T070000
END:STANDARD
END:VTIMEZONE
BEGIN:VEVENT
DTSTART;TZID=America/Chicago:20200416T193000
DTEND;TZID=America/Chicago:20200416T210000
DTSTAMP:20260422T152436
CREATED:20200415T214919Z
LAST-MODIFIED:20200422T200706Z
UID:1210-1587065400-1587070800@regenerativeagideanetwork.org
SUMMARY:Webinar: Soil Building Secrets
DESCRIPTION:“Soil Building Secrets”\nSpeakers: Ray Archuleta and David Kleinschmidt\nRay Archuleta will explain how soil functions: how plants\, animals\, and organisms work together as a collective to transform and extract nutrients from the soil.\nDavid Kleinschmidt will explain how farmers and ranchers can use diverse crops\, cover crops and animals to enhance that cycle.
URL:https://regenerativeagideanetwork.org/event/webinar-soil-building-secrets/
CATEGORIES:Webinar
END:VEVENT
END:VCALENDAR