BEGIN:VCALENDAR
VERSION:2.0
PRODID:-//REGAIN - ECPv6.10.2//NONSGML v1.0//EN
CALSCALE:GREGORIAN
METHOD:PUBLISH
X-ORIGINAL-URL:https://regenerativeagideanetwork.org
X-WR-CALDESC:Events for REGAIN
REFRESH-INTERVAL;VALUE=DURATION:PT1H
X-Robots-Tag:noindex
X-PUBLISHED-TTL:PT1H
BEGIN:VTIMEZONE
TZID:America/Chicago
BEGIN:DAYLIGHT
TZOFFSETFROM:-0600
TZOFFSETTO:-0500
TZNAME:CDT
DTSTART:20200308T080000
END:DAYLIGHT
BEGIN:STANDARD
TZOFFSETFROM:-0500
TZOFFSETTO:-0600
TZNAME:CST
DTSTART:20201101T070000
END:STANDARD
END:VTIMEZONE
BEGIN:VEVENT
DTSTART;TZID=America/Chicago:20201120T120000
DTEND;TZID=America/Chicago:20201120T133000
DTSTAMP:20260422T033848
CREATED:20201110T202108Z
LAST-MODIFIED:20210310T141110Z
UID:3379-1605873600-1605879000@regenerativeagideanetwork.org
SUMMARY:OGRAIN:  Friday Weekly Workshops
DESCRIPTION:Each week features a topic related to organic grain production. Brief presentations will be followed by open\ndiscussion. Participation is free\, but pre-registration is required for each session. See link for a full schedule.
URL:https://regenerativeagideanetwork.org/event/ograin-2020-season-round-up-and-market-update/2020-11-20/
CATEGORIES:Training/Workshop
END:VEVENT
END:VCALENDAR