BEGIN:VCALENDAR
VERSION:2.0
PRODID:-//REGAIN - ECPv6.10.2//NONSGML v1.0//EN
CALSCALE:GREGORIAN
METHOD:PUBLISH
X-ORIGINAL-URL:https://regenerativeagideanetwork.org
X-WR-CALDESC:Events for REGAIN
REFRESH-INTERVAL;VALUE=DURATION:PT1H
X-Robots-Tag:noindex
X-PUBLISHED-TTL:PT1H
BEGIN:VTIMEZONE
TZID:America/Chicago
BEGIN:DAYLIGHT
TZOFFSETFROM:-0600
TZOFFSETTO:-0500
TZNAME:CDT
DTSTART:20200308T080000
END:DAYLIGHT
BEGIN:STANDARD
TZOFFSETFROM:-0500
TZOFFSETTO:-0600
TZNAME:CST
DTSTART:20201101T070000
END:STANDARD
END:VTIMEZONE
BEGIN:VEVENT
DTSTART;VALUE=DATE:20201201
DTEND;VALUE=DATE:20201205
DTSTAMP:20260422T003106
CREATED:20200929T160929Z
LAST-MODIFIED:20200929T160929Z
UID:2780-1606780800-1607126399@regenerativeagideanetwork.org
SUMMARY:ACRES Eco-Ag Conference & Trade Show
DESCRIPTION:This educational experience and trade show\, now in its 45th year\, unites farmers\, ranchers and ag professionals from every facet of eco-farming to share their experience and expertise. You will learn useful\, practical information that they can apply to your operations.Â Register.
URL:https://regenerativeagideanetwork.org/event/acres-eco-ag-conference-trade-show/
CATEGORIES:Virtual Conference
END:VEVENT
END:VCALENDAR