BEGIN:VCALENDAR
VERSION:2.0
PRODID:-//REGAIN - ECPv6.10.2//NONSGML v1.0//EN
CALSCALE:GREGORIAN
METHOD:PUBLISH
X-ORIGINAL-URL:https://regenerativeagideanetwork.org
X-WR-CALDESC:Events for REGAIN
REFRESH-INTERVAL;VALUE=DURATION:PT1H
X-Robots-Tag:noindex
X-PUBLISHED-TTL:PT1H
BEGIN:VTIMEZONE
TZID:America/Chicago
BEGIN:DAYLIGHT
TZOFFSETFROM:-0600
TZOFFSETTO:-0500
TZNAME:CDT
DTSTART:20210314T080000
END:DAYLIGHT
BEGIN:STANDARD
TZOFFSETFROM:-0500
TZOFFSETTO:-0600
TZNAME:CST
DTSTART:20211107T070000
END:STANDARD
END:VTIMEZONE
BEGIN:VEVENT
DTSTART;TZID=America/Chicago:20210107T150000
DTEND;TZID=America/Chicago:20210107T163000
DTSTAMP:20260422T003130
CREATED:20210126T224516Z
LAST-MODIFIED:20210126T224603Z
UID:3988-1610031600-1610037000@regenerativeagideanetwork.org
SUMMARY:Minnesota Organic Conference
DESCRIPTION:The Minnesota Department of Agriculture’s Annual Organic Conference is holding a series of workshops\, one each week in January. \nSFA is a “Blue” sponsor of the Minnesota Organic Conference. Cost is $10 per workshop or $30 for all 4 workshops. Recordings will be available for one week following each session. \nThursday\, January 7\nBack to the Future: Regenerative-Organic Food Production for Good Health \n\nBob Quinn\, Ph.D.\, Organic Farmer\, Entrepreneur\, Author\n\nThursday\, January 14\nThe Connection Between Farm Ecosystem Health and Human Health \n\nSilvia Abel-Caines\, DVM\, Ph.D.\, Organic Valley Ruminant Nutritionist\n\nThursday\, January 21\nThe Challenges of Our Times: Climate Change\, COVID\, and Organic Farm Viability \n\nCarolyn Dimitri\, Ph.D.\, New York University Department of Nutrition\, Food Studies and Public Health\nAndy Pressman\, National Center for Appropriate Technology\nCristel Zoebisch\, Organic Farming Research Foundation\n\nThursday\, January 28\nSoil Health on Organic Farms \n\nAmber Sciligo\, Ph.D.\, The Organic Center Science Program Manager
URL:https://regenerativeagideanetwork.org/event/minnesota-organic-conference/2021-01-07/
CATEGORIES:Training/Workshop
END:VEVENT
END:VCALENDAR