BEGIN:VCALENDAR
VERSION:2.0
PRODID:-//REGAIN - ECPv6.10.2//NONSGML v1.0//EN
CALSCALE:GREGORIAN
METHOD:PUBLISH
X-ORIGINAL-URL:https://regenerativeagideanetwork.org
X-WR-CALDESC:Events for REGAIN
REFRESH-INTERVAL;VALUE=DURATION:PT1H
X-Robots-Tag:noindex
X-PUBLISHED-TTL:PT1H
BEGIN:VTIMEZONE
TZID:America/Chicago
BEGIN:DAYLIGHT
TZOFFSETFROM:-0600
TZOFFSETTO:-0500
TZNAME:CDT
DTSTART:20210314T080000
END:DAYLIGHT
BEGIN:STANDARD
TZOFFSETFROM:-0500
TZOFFSETTO:-0600
TZNAME:CST
DTSTART:20211107T070000
END:STANDARD
END:VTIMEZONE
BEGIN:VEVENT
DTSTART;VALUE=DATE:20210120
DTEND;VALUE=DATE:20210124
DTSTAMP:20260422T003121
CREATED:20210126T200059Z
LAST-MODIFIED:20210126T200059Z
UID:3864-1611100800-1611446399@regenerativeagideanetwork.org
SUMMARY:EcoFarm Conference
DESCRIPTION:Building upon its farmer-to-farmer education model\, EcoFarm is an essential networking and educational hub for ecologically-minded farmers\, ranchers\, and all who work to support their success in growing a healthy and just food system and world. \nGet ready for an EcoFarm Conference unlike any before as we convene online for our 41st event! EcoFarm Conference will feature inspiring keynotes\, educational workshops\, skill-building pre-conferences\, extensive networking\, a virtual trade show and more! And at a price that is more affordable than ever before. \n 
URL:https://regenerativeagideanetwork.org/event/ecofarm-conference/
CATEGORIES:Virtual Conference
END:VEVENT
BEGIN:VEVENT
DTSTART;VALUE=DATE:20210121
DTEND;VALUE=DATE:20210124
DTSTAMP:20260422T003121
CREATED:20210126T200237Z
LAST-MODIFIED:20210126T200237Z
UID:3868-1611187200-1611446399@regenerativeagideanetwork.org
SUMMARY:PFI Annual Conference
DESCRIPTION:It is a familiar journey: driving home through the dark\, icy chill as your headlights glare into the falling snow. You release held breath as your tires feel the last turn onto the gravel in the January night. Travelling to PFI’s annual conference each year is like visiting family\, like being at a reunion where relationships grow and deepen; where we hear new ideas\, make new friends and improve our farms You’ve driven through blizzards\, ice and drifted roads not to miss this. But this year\, with the risks of COVID-19 we won’t ask you to. \nStay where you are\, this year PFI is coming home. \nFor three days of the deep winter\, be safe and easy in your home while we gather on PFI’s virtual conference platform to engage with old friends and new\, invited speakers and exhibitors. We will bring familiar elements you expect of the conference – like practical\, farmer-led sessions\, roundtables and moderated panels on the issues that matter to you and your farms. \nWe’ll also have some new offerings\, including youth sessions\, lightning talks\, farmer-to-farmer conversations\, a night of storytelling and PFI’s first feature-length film\, “Livestock on the Land.” There’s even a virtual potluck. \n 
URL:https://regenerativeagideanetwork.org/event/pfi-annual-conference/
CATEGORIES:Virtual Conference
END:VEVENT
END:VCALENDAR