BEGIN:VCALENDAR
VERSION:2.0
PRODID:-//REGAIN - ECPv6.10.2//NONSGML v1.0//EN
CALSCALE:GREGORIAN
METHOD:PUBLISH
X-ORIGINAL-URL:https://regenerativeagideanetwork.org
X-WR-CALDESC:Events for REGAIN
REFRESH-INTERVAL;VALUE=DURATION:PT1H
X-Robots-Tag:noindex
X-PUBLISHED-TTL:PT1H
BEGIN:VTIMEZONE
TZID:America/Chicago
BEGIN:DAYLIGHT
TZOFFSETFROM:-0600
TZOFFSETTO:-0500
TZNAME:CDT
DTSTART:20210314T080000
END:DAYLIGHT
BEGIN:STANDARD
TZOFFSETFROM:-0500
TZOFFSETTO:-0600
TZNAME:CST
DTSTART:20211107T070000
END:STANDARD
END:VTIMEZONE
BEGIN:VEVENT
DTSTART;VALUE=DATE:20210208
DTEND;VALUE=DATE:20210214
DTSTAMP:20260421T230643
CREATED:20210126T201221Z
LAST-MODIFIED:20210126T201446Z
UID:3897-1612742400-1613260799@regenerativeagideanetwork.org
SUMMARY:SFA Annual Conference
DESCRIPTION:Join us for SFA’s 31st Annual Conference\, a virtual event with interactive online programming featuring the shared wisdom of our sustainable farming community. \nWe’re planning interactive sessions and features with topics including: \n\nSilvopasture and Agroforestry\nConservation Practices and Programs for Your Farm\nFarm to Local Grocery\nA Conversation with Alan Guebert\nSoil Health:  Hay & Forage\nQuality of Life on the Farm\n“Side Hustles” – Off-season Income\nThom Petersen\, MN Department of Agriculture Commissioner on COVID-19 Meat Processing Initiatives and Challenges\nTheresa Keaveny interviews MN Attorney General\, Keith Ellison\nBeth Dooley on Cooking with Perennial Crops\nA Music-filled Social Hour\nand more!
URL:https://regenerativeagideanetwork.org/event/sfa-annual-conference/
CATEGORIES:Virtual Conference
ORGANIZER;CN="Sustainable Farming Association":MAILTO:jared@sfa-mn.org
END:VEVENT
BEGIN:VEVENT
DTSTART;TZID=America/Chicago:20210209T180000
DTEND;TZID=America/Chicago:20210209T190000
DTSTAMP:20260421T230643
CREATED:20210126T222614Z
LAST-MODIFIED:20210126T222620Z
UID:3966-1612893600-1612897200@regenerativeagideanetwork.org
SUMMARY:Value-Added Products
DESCRIPTION:This free\, live webinar\, will feature Michael Gold of the University of Missouri Center for Agroforestry and Jeff Hake of Funks Grove Heritage Fruits & Grains discussing opportunities for value-added agroforestry products.
URL:https://regenerativeagideanetwork.org/event/value-added-products/
CATEGORIES:Webinar
END:VEVENT
BEGIN:VEVENT
DTSTART;TZID=America/Chicago:20210211T120000
DTEND;TZID=America/Chicago:20210211T130000
DTSTAMP:20260421T230643
CREATED:20210127T201021Z
LAST-MODIFIED:20210127T202825Z
UID:4209-1613044800-1613048400@regenerativeagideanetwork.org
SUMMARY:Winter Meat-ings #4 - State & Federal Policy Solutions
DESCRIPTION:WFU is planning a “Winter Meat-ings” series on solutions to meat processing struggles in the state. “Meat Processing Infrastructure was one of the Special Orders of Business set by the grassroots membership at our 2020 convention\, and it’s an issue that has become even more critical in light of the supply chain struggles around the pandemic\,” said Wisconsin Farmers Union President Darin Von Ruden. “This series will give farmers\, processors\, rural leaders\, and other stakeholders a chance to come together in search of creative solutions.”
URL:https://regenerativeagideanetwork.org/event/winter-meat-ings-4-state-federal-policy-solutions/
CATEGORIES:Webinar
ORGANIZER;CN="Wisconsin Farmers Union":MAILTO:kslaughter@wisconsinfarmersunion.com
END:VEVENT
BEGIN:VEVENT
DTSTART;TZID=America/Chicago:20210212T113000
DTEND;TZID=America/Chicago:20210212T133000
DTSTAMP:20260421T230643
CREATED:20210126T185943Z
LAST-MODIFIED:20210126T185943Z
UID:3856-1613129400-1613136600@regenerativeagideanetwork.org
SUMMARY:Farming for the Future: A Forum Exploring Ecosystem Markets
DESCRIPTION:Join the Illinois Sustainable Ag Partnership and organizations from Indiana\, Illinois\, Iowa\, Ohio\, and Wisconsin for a free\, national webinar exploring different environmental and carbon market opportunities for Midwest farmers. This event brings four prominent carbon markets to one table\, Indigo Ag\, Nori\, Ecosystem Services Market Consortium\, and the Soil and Water Outcomes Fund\, providing farmers a side-by-side comparison of opportunities. Presentations will walk the audience through the process of program enrollment from start to finish\, highlighting key contract terms and conditions\, payment schedules\, and verification requirements.
URL:https://regenerativeagideanetwork.org/event/farming-for-the-future-a-forum-exploring-ecosystem-markets/
CATEGORIES:Webinar
ORGANIZER;CN="Illinois Sustainable Ag Partnership":MAILTO:ilsustainableag@gmail.com
END:VEVENT
END:VCALENDAR