BEGIN:VCALENDAR
VERSION:2.0
PRODID:-//REGAIN - ECPv6.10.2//NONSGML v1.0//EN
CALSCALE:GREGORIAN
METHOD:PUBLISH
X-ORIGINAL-URL:https://regenerativeagideanetwork.org
X-WR-CALDESC:Events for REGAIN
REFRESH-INTERVAL;VALUE=DURATION:PT1H
X-Robots-Tag:noindex
X-PUBLISHED-TTL:PT1H
BEGIN:VTIMEZONE
TZID:America/Chicago
BEGIN:DAYLIGHT
TZOFFSETFROM:-0600
TZOFFSETTO:-0500
TZNAME:CDT
DTSTART:20210314T080000
END:DAYLIGHT
BEGIN:STANDARD
TZOFFSETFROM:-0500
TZOFFSETTO:-0600
TZNAME:CST
DTSTART:20211107T070000
END:STANDARD
END:VTIMEZONE
BEGIN:VEVENT
DTSTART;VALUE=DATE:20210301
DTEND;VALUE=DATE:20210401
DTSTAMP:20260421T214257
CREATED:20210225T163835Z
LAST-MODIFIED:20210225T163938Z
UID:5201-1614556800-1617235199@regenerativeagideanetwork.org
SUMMARY:Organic Commodities and Livestock Conference
DESCRIPTION:Carolina Farm Stewardship Association and North Carolina State University present the virtual Organic Commodities and Livestock Conference\, with six live sessions to speak with workshop presenters and other farmers and 14 recorded sessions to watch on your own time. Topics include hemp production\, organic certification\, meat processing\, pastured poultry\, sweet potato pest management\, and more.
URL:https://regenerativeagideanetwork.org/event/organic-commodities-and-livestock-conference/
CATEGORIES:Virtual Conference
END:VEVENT
BEGIN:VEVENT
DTSTART;VALUE=DATE:20210308
DTEND;VALUE=DATE:20210310
DTSTAMP:20260421T214257
CREATED:20210210T192800Z
LAST-MODIFIED:20210210T192800Z
UID:4678-1615161600-1615334399@regenerativeagideanetwork.org
SUMMARY:1st Annual Soil Health Innovations Conference
DESCRIPTION:Soil health has emerged as a central theme in conversations about the future of American agriculture. Soils have become a focal topic due to new scientific understanding\, the application of emerging technologies\, and a growing interest among producers and policymakers in improving climate resilience and mitigating emissions. \nThe Soil Health Innovations Conference will be online with live-streamed speakers and panels\, as well as virtual halls for exhibitors and student posters. Real-time chats will allow participants to network with exhibitors and sponsors and the producers\, industry professionals\, educators\, and students who are at the cutting edge of soil health across the country. \nJoin us for a far-reaching exploration of agriculture’s sustainable future: on-farm practices\, soil biology\, carbon markets\, and public policy.
URL:https://regenerativeagideanetwork.org/event/1st-annual-soil-health-innovations-conference/
CATEGORIES:Conference
END:VEVENT
BEGIN:VEVENT
DTSTART;TZID=America/Chicago:20210308T100000
DTEND;TZID=America/Chicago:20210308T120000
DTSTAMP:20260421T214257
CREATED:20210308T154922Z
LAST-MODIFIED:20210308T154922Z
UID:5520-1615197600-1615204800@regenerativeagideanetwork.org
SUMMARY:Cover Crop Boot Camp
DESCRIPTION:Before the last of the snow melts\, fine-tune your spring cover crop plan and double-down on cutting unnecessary expenses. During this two-hour boot camp\, we’ll hear presentations from Chad Bell and Rebecca Clay on cover crop economics\, followed by Q&A. Then we’ll listen as experienced cover cropper Nathan Anderson and new cover crop user Keaton Krueger discuss planter set-up\, nitrogen\, planting green and one another’s cover crop challenges and ideas. Nathan and Keaton will share the good\, the bad and the ugly to help keep all farmers learning together and moving forward on their own farms.
URL:https://regenerativeagideanetwork.org/event/cover-crop-boot-camp/
CATEGORIES:Training/Workshop
END:VEVENT
BEGIN:VEVENT
DTSTART;VALUE=DATE:20210309
DTEND;VALUE=DATE:20210313
DTSTAMP:20260421T214257
CREATED:20210126T201401Z
LAST-MODIFIED:20210126T201451Z
UID:3899-1615248000-1615593599@regenerativeagideanetwork.org
SUMMARY:2021 Midwest Soil Health Summit
DESCRIPTION:Three day event featuring Gabe Brown\, Sarah Keough\, and SFA experts!
URL:https://regenerativeagideanetwork.org/event/2021-midwest-soil-health-summit/
CATEGORIES:Virtual Conference
ORGANIZER;CN="Sustainable Farming Association":MAILTO:jared@sfa-mn.org
END:VEVENT
BEGIN:VEVENT
DTSTART;TZID=America/Chicago:20210309T180000
DTEND;TZID=America/Chicago:20210309T190000
DTSTAMP:20260421T214257
CREATED:20210126T222647Z
LAST-MODIFIED:20210126T222647Z
UID:3969-1615312800-1615316400@regenerativeagideanetwork.org
SUMMARY:Food forests\, Foodscaping\, and Edible Agroforestry
DESCRIPTION:This free\, live webinar will feature Sarah Lovell\, director of the Center for Agroforestry at the University of Missouri\, and Matt Lebon of Custom Foodscaping in St. Louis\, Missouri discussing ways of incorporating edible agroforestry into neighborhoods and urban areas.
URL:https://regenerativeagideanetwork.org/event/food-forests-foodscaping-and-edible-agroforestry/
CATEGORIES:Webinar
END:VEVENT
BEGIN:VEVENT
DTSTART;TZID=America/Chicago:20210309T190000
DTEND;TZID=America/Chicago:20210309T203000
DTSTAMP:20260421T214257
CREATED:20210308T154950Z
LAST-MODIFIED:20210308T154950Z
UID:5522-1615316400-1615321800@regenerativeagideanetwork.org
SUMMARY:Using EQIP to Improve Wildlife Habitat on Private Lands
DESCRIPTION:Working lands conservation programs like the Environmental Quality Incentives Program can be powerful tools for farmers and landowners interested in restoring wildlife habitat. Learn more from Kelsey Fleming\, a private lands biologist with the Iowa Department of Natural Resources\, about how programs like EQIP can provide landowners with financial assistance for wildlife conservation on their farms. Also hear about other technical and financial assistance opportunities available to farmers and landowners. \n\nKelsey Fleming is a private lands biologist with the Iowa DNR who works with farmers and landowners to provide assistance planning and implementing wildlife habitat projects in southwest Iowa.\nDon Eyerly is a landowner from Madison County\, IA. Don has experience using working lands conservation programs like the Environmental Quality Incentives Program (EQIP)\, as well as programs like the Conservation Reserve Program and Prairie Partners\, to restore and improve wildlife habitat on his farm.
URL:https://regenerativeagideanetwork.org/event/using-eqip-to-improve-wildlife-habitat-on-private-lands/
CATEGORIES:Webinar
END:VEVENT
BEGIN:VEVENT
DTSTART;TZID=America/Chicago:20210310T120000
DTEND;TZID=America/Chicago:20210310T130000
DTSTAMP:20260421T214257
CREATED:20210217T153450Z
LAST-MODIFIED:20210217T154301Z
UID:5001-1615377600-1615381200@regenerativeagideanetwork.org
SUMMARY:Organization Spotlight Office Hours - Practical Farmers of Iowa
DESCRIPTION:Every second Wednesday\, REGAIN will host Organization Spotlight Office Hours. These sessions are a chance for you to connect with other organizations working in regenerative ag and learn about their programming!
URL:https://regenerativeagideanetwork.org/event/organization-spotlight-office-hours/
CATEGORIES:Office Hours
END:VEVENT
BEGIN:VEVENT
DTSTART;TZID=America/Chicago:20210311T120000
DTEND;TZID=America/Chicago:20210311T130000
DTSTAMP:20260421T214257
CREATED:20210127T202845Z
LAST-MODIFIED:20210127T202853Z
UID:4211-1615464000-1615467600@regenerativeagideanetwork.org
SUMMARY:Winter Meat-ings #5 - Labor Struggles & Solutions
DESCRIPTION:WFU is planning a “Winter Meat-ings” series on solutions to meat processing struggles in the state. “Meat Processing Infrastructure was one of the Special Orders of Business set by the grassroots membership at our 2020 convention\, and it’s an issue that has become even more critical in light of the supply chain struggles around the pandemic\,” said Wisconsin Farmers Union President Darin Von Ruden. “This series will give farmers\, processors\, rural leaders\, and other stakeholders a chance to come together in search of creative solutions.” \nFurther details and panelists announcements coming soon!
URL:https://regenerativeagideanetwork.org/event/winter-meat-ings-5-labor-struggles-solutions/
CATEGORIES:Webinar
ORGANIZER;CN="Wisconsin Farmers Union":MAILTO:kslaughter@wisconsinfarmersunion.com
END:VEVENT
BEGIN:VEVENT
DTSTART;TZID=America/Chicago:20210311T190000
DTEND;TZID=America/Chicago:20210311T210000
DTSTAMP:20260421T214257
CREATED:20210311T183000Z
LAST-MODIFIED:20210311T183000Z
UID:5595-1615489200-1615496400@regenerativeagideanetwork.org
SUMMARY:Pathways to Growing the Grassfed Livestock Sector
DESCRIPTION:David LeZaks\, Senior Fellow at Croatan Institute and Sarah Lloyd with GrassLand 2.0 will explore the landscape of farmers\, companies\, investors\, and nonprofits working to build and strengthen the grassfed livestock sector. This “fireside” chat will draw on examples and trends from consumers\, institutional purchasers\, government agencies\, and philanthropy. Tune in for what will be an insightful discussion that might also include a joke (or two).
URL:https://regenerativeagideanetwork.org/event/pathways-to-growing-the-grassfed-livestock-sector-3/
CATEGORIES:Webinar
ATTACH;FMTTYPE=image/jpeg:https://regenerativeagideanetwork.org/wp-content/uploads/2021/03/March-11-Facebook-new.jpg
END:VEVENT
BEGIN:VEVENT
DTSTART;TZID=America/Chicago:20210312T080000
DTEND;TZID=America/Chicago:20210319T170000
DTSTAMP:20260421T214257
CREATED:20210209T225300Z
LAST-MODIFIED:20210209T225300Z
UID:4657-1615536000-1616173200@regenerativeagideanetwork.org
SUMMARY:Armed to Farm: Sustainable Agriculture Training for Military Veterans
DESCRIPTION:The National Center for Appropriate Technology (NCAT) is now offering a virtual version of its popular sustainable agriculture training program for military veterans. NCAT is moving the training online to make it accessible during COVID-19 restrictions. Veterans who want to attend the Virtual Armed to Farm training\, which will take place in six sessions during April and May\, can apply online now. \n  \nVirtual Armed to Farm will cover topics essential to farm success\, including business planning\, budgeting\, recordkeeping\, marketing\, and USDA programs\, as well as specific enterprise discussions. Attendees will have the opportunity to meet and network with other beginning farmers from across the country. The training will also include breakout sessions for region-specific networking and resource-sharing. \n  \nVirtual Armed to Farm will include an engaging blend of interactive online instruction and video farm tours via Zoom. Participants will be expected to be involved in virtual activities\, complete assignments\, and interact with other attendees. NCAT Sustainable Agriculture specialists will teach the training sessions. Staff from partner organizations\, USDA agencies\, and experienced crop and livestock producers will provide additional instruction. \n  \nApplications are available at https://ncat.org/atf_virtu/ and are due by March 12\, 2021. \n  \nVirtual Armed to Farm topics will be applicable to all beginning farmers regardless of location in the U.S. Military veterans interested in farming are encouraged to apply. Spouses are welcome to participate as well\, but must submit a separate application. The number of participants will be limited to facilitate effective online interaction. NCAT will notify selected participants by March 19.  \n  \nTraining Session Dates \nVirtual Armed to Farm will consist of two-hour sessions on the following dates:\nApril 1\nApril 8\nApril 15\nApril 22\nApril 29\nMay 6 \nThe training sessions will take place from 3:00-5:00 p.m. Pacific time/4:00-6:00 p.m. Mountain/5:00-7:00 p.m. Central/6:00-8:00 p.m. Eastern. \nThe Virtual Armed to Farm training is free. While participants may join the live sessions via phone only\, access to a computer\, tablet\, or mobile device and internet is required in order to watch recorded sessions and complete online assignments.
URL:https://regenerativeagideanetwork.org/event/armed-to-farm-sustainable-agriculture-training-for-military-veterans/
CATEGORIES:Training/Workshop
END:VEVENT
END:VCALENDAR