BEGIN:VCALENDAR
VERSION:2.0
PRODID:-//REGAIN - ECPv6.10.2//NONSGML v1.0//EN
CALSCALE:GREGORIAN
METHOD:PUBLISH
X-ORIGINAL-URL:https://regenerativeagideanetwork.org
X-WR-CALDESC:Events for REGAIN
REFRESH-INTERVAL;VALUE=DURATION:PT1H
X-Robots-Tag:noindex
X-PUBLISHED-TTL:PT1H
BEGIN:VTIMEZONE
TZID:America/Chicago
BEGIN:DAYLIGHT
TZOFFSETFROM:-0600
TZOFFSETTO:-0500
TZNAME:CDT
DTSTART:20210314T080000
END:DAYLIGHT
BEGIN:STANDARD
TZOFFSETFROM:-0500
TZOFFSETTO:-0600
TZNAME:CST
DTSTART:20211107T070000
END:STANDARD
END:VTIMEZONE
BEGIN:VEVENT
DTSTART;TZID=America/Chicago:20210408T120000
DTEND;TZID=America/Chicago:20210408T130000
DTSTAMP:20260421T201545
CREATED:20210127T202918Z
LAST-MODIFIED:20210127T202918Z
UID:4213-1617883200-1617886800@regenerativeagideanetwork.org
SUMMARY:Winter Meat-ings #6 - Creative Marketing Approaches
DESCRIPTION:WFU is planning a “Winter Meat-ings” series on solutions to meat processing struggles in the state. “Meat Processing Infrastructure was one of the Special Orders of Business set by the grassroots membership at our 2020 convention\, and it’s an issue that has become even more critical in light of the supply chain struggles around the pandemic\,” said Wisconsin Farmers Union President Darin Von Ruden. “This series will give farmers\, processors\, rural leaders\, and other stakeholders a chance to come together in search of creative solutions.” \nFurther details and panelists announcements coming soon!
URL:https://regenerativeagideanetwork.org/event/winter-meat-ings-6-creative-marketing-approaches/
CATEGORIES:Webinar
ORGANIZER;CN="Wisconsin Farmers Union":MAILTO:kslaughter@wisconsinfarmersunion.com
END:VEVENT
END:VCALENDAR