BEGIN:VCALENDAR
VERSION:2.0
PRODID:-//REGAIN - ECPv6.10.2//NONSGML v1.0//EN
CALSCALE:GREGORIAN
METHOD:PUBLISH
X-ORIGINAL-URL:https://regenerativeagideanetwork.org
X-WR-CALDESC:Events for REGAIN
REFRESH-INTERVAL;VALUE=DURATION:PT1H
X-Robots-Tag:noindex
X-PUBLISHED-TTL:PT1H
BEGIN:VTIMEZONE
TZID:America/Chicago
BEGIN:DAYLIGHT
TZOFFSETFROM:-0600
TZOFFSETTO:-0500
TZNAME:CDT
DTSTART:20210314T080000
END:DAYLIGHT
BEGIN:STANDARD
TZOFFSETFROM:-0500
TZOFFSETTO:-0600
TZNAME:CST
DTSTART:20211107T070000
END:STANDARD
END:VTIMEZONE
BEGIN:VTIMEZONE
TZID:America/New_York
BEGIN:DAYLIGHT
TZOFFSETFROM:-0500
TZOFFSETTO:-0400
TZNAME:EDT
DTSTART:20210314T070000
END:DAYLIGHT
BEGIN:STANDARD
TZOFFSETFROM:-0400
TZOFFSETTO:-0500
TZNAME:EST
DTSTART:20211107T060000
END:STANDARD
END:VTIMEZONE
BEGIN:VTIMEZONE
TZID:America/Denver
BEGIN:DAYLIGHT
TZOFFSETFROM:-0700
TZOFFSETTO:-0600
TZNAME:MDT
DTSTART:20210314T090000
END:DAYLIGHT
BEGIN:STANDARD
TZOFFSETFROM:-0600
TZOFFSETTO:-0700
TZNAME:MST
DTSTART:20211107T080000
END:STANDARD
END:VTIMEZONE
BEGIN:VTIMEZONE
TZID:America/Chicago
BEGIN:DAYLIGHT
TZOFFSETFROM:-0600
TZOFFSETTO:-0500
TZNAME:CDT
DTSTART:20210314T080000
END:DAYLIGHT
BEGIN:STANDARD
TZOFFSETFROM:-0500
TZOFFSETTO:-0600
TZNAME:CST
DTSTART:20211107T070000
END:STANDARD
END:VTIMEZONE
BEGIN:VTIMEZONE
TZID:America/Los_Angeles
BEGIN:DAYLIGHT
TZOFFSETFROM:-0800
TZOFFSETTO:-0700
TZNAME:PDT
DTSTART:20210314T100000
END:DAYLIGHT
BEGIN:STANDARD
TZOFFSETFROM:-0700
TZOFFSETTO:-0800
TZNAME:PST
DTSTART:20211107T090000
END:STANDARD
END:VTIMEZONE
BEGIN:VEVENT
DTSTART;TZID=America/Chicago:20210420T080000
DTEND;TZID=America/Chicago:20210420T090000
DTSTAMP:20260421T182931
CREATED:20210414T141814Z
LAST-MODIFIED:20210414T141929Z
UID:6283-1618905600-1618909200@regenerativeagideanetwork.org
SUMMARY:The Authentic “WHY” of Farming
DESCRIPTION:Please join WFAN as we host an education and enlightenment webinar through farming and storytelling: a coffee talk with Zephrine Hanson of Hampden Farms & Paige Jackson of Grass Grazed! \nPaige Jackson is a regenerative farm manager based in Durham County. She and her husband Derrick\, launched Grass Grazed Farm in 2019 while stationed at Fort Bragg\, North Carolina. Grass Grazed is a pasture-based regenerative farm\, focusing on soil health and sustainable farming practices. The farm raises pork\, chicken and cattle. They strive to offer transparency\, from farm to table\, for all of their customers. \nZephrine Hanson spent 8 years as a Air Force photojournalist and has a 20 year background in media communications and public relations. After completing a life changing therapeutic farm program for veterans in 2017\, Zephrine\, her husband and 3 children pivoted into the Colorado agricultural community creating Hampden Farms\, a suburban farm offering sustainable farming solutions\, organic production and small-batch artisanal products made from natural ingredients lovingly grown and conscientiously sourced. From seed to sale\, we promote creativity and innovation across producers and providers while encouraging conscious consumption in wholesome products that are simply good for your mind\, body and soul.
URL:https://regenerativeagideanetwork.org/event/the-authentic-why-of-farming/
CATEGORIES:Webinar
END:VEVENT
BEGIN:VEVENT
DTSTART;TZID=America/Chicago:20210420T080000
DTEND;TZID=America/Chicago:20210422T170000
DTSTAMP:20260421T182931
CREATED:20210209T145624Z
LAST-MODIFIED:20210218T163008Z
UID:4643-1618905600-1619110800@regenerativeagideanetwork.org
SUMMARY:Increasing Profitability Through Improved Soil Health
DESCRIPTION:Presented by Understanding Ag\nWhat You Will Learn\n\nUtilize the Six Principles of Soil Health and Three Rules of Adaptive Stewardship\nIncrease Farm Profitability by Advancing Soil Health\nSuccessfully Improve the Nutrient Cycle on your Farm\nHow to Inter-seed Cover Crops\nHow to Design Cover Crop Mixes to Address your Resource Concerns\nHow to Terminate Cover Crops by Rolling\nStrategies and Logistics of Implementing Cover Crops\n\n\n\n\n\n\n\n\n\n\n\nTopics Addressed\n\nProper Soil Testing and Interpretation\nDesigning Multi-Species Cover Crop Mixes\nMicrobiology’s Role in Nutrient Cycling\nIdentifying Resource Concerns\nSoil Health Evaluation\nUnderstanding Carbon to Nitrogen Ratios\nCover Crop Termination
URL:https://regenerativeagideanetwork.org/event/increasing-profitability-through-improved-soil-health/
LOCATION:Hillsboro\, TN\, 7296 Hillsboro Highway\, Hillsboro\, TN\, 37342\, United States
CATEGORIES:Training/Workshop
GEO:35.4146731;-85.9775609
X-APPLE-STRUCTURED-LOCATION;VALUE=URI;X-ADDRESS=Hillsboro TN 7296 Hillsboro Highway Hillsboro TN 37342 United States;X-APPLE-RADIUS=500;X-TITLE=7296 Hillsboro Highway:geo:-85.9775609,35.4146731
END:VEVENT
BEGIN:VEVENT
DTSTART;TZID=America/New_York:20210421T090000
DTEND;TZID=America/New_York:20210421T103000
DTSTAMP:20260421T182931
CREATED:20210415T155228Z
LAST-MODIFIED:20210415T193800Z
UID:6381-1618995600-1619001000@regenerativeagideanetwork.org
SUMMARY:Grazing Concepts for Better Farm Resilience: How NRCS can help you
DESCRIPTION:The final session of Granite State Graziers’ series on Grazing Concepts for Better Farm Resilience focuses on how NRCS programs can help. Topics will include grazing planning\, experiences with assistance providers\, forage species\, grazing annuals\, and crop nutrient needs.
URL:https://regenerativeagideanetwork.org/event/grazing-concepts-for-better-farm-resilience-how-nrcs-can-help-you/
LOCATION:Online\, DC
CATEGORIES:Webinar
END:VEVENT
BEGIN:VEVENT
DTSTART;TZID=America/Denver:20210421T190000
DTEND;TZID=America/Denver:20210421T203000
DTSTAMP:20260421T182931
CREATED:20210510T165252Z
LAST-MODIFIED:20210510T202149Z
UID:6628-1619031600-1619037000@regenerativeagideanetwork.org
SUMMARY:Direct Farm Marketing Series
DESCRIPTION:Owners and operators of diverse farm operations are invited to join Purdue Extension specialists and educators and Indiana agribusinesses for a free virtual series\, Direct Farm Marketing. \nExtension specialists and educators\, along with guest speakers\, will discuss how to enhance the sales of produce\, animal products and value-added processing through marketing education. Participants will learn direct marketing basics and specific market types and strategies. \nPurdue Extension educators from Allen\, Dekalb\, Hancock\, Howard\, LaGrange\, St. Joseph and Warrick counties are hosting the Direct Farm Marketing series 7-8:30 p.m. ET on Wednesdays beginning April 21 and ending May 26\, via Zoom. The series schedule is as follows: \n\nApril 21: Basics of direct farm marketing and market planning.\nApril 28: Farmers markets and roadside stands.\nMay 5: U-pick and agritourism.\nMay 12: Consumer supported agriculture.\nMay 19: Wholesale markets (food hubs and farm to school).\nMay 26: Value-added processing.\n\nRegister for any or all sessions at bit.ly/21farmmkt.
URL:https://regenerativeagideanetwork.org/event/direct-farm-marketing-series/2021-04-21/
LOCATION:Online\, DC
CATEGORIES:Training/Workshop
END:VEVENT
BEGIN:VEVENT
DTSTART;TZID=America/Chicago:20210422T180000
DTEND;TZID=America/Chicago:20210422T190000
DTSTAMP:20260421T182931
CREATED:20210407T143053Z
LAST-MODIFIED:20210416T150604Z
UID:6266-1619114400-1619118000@regenerativeagideanetwork.org
SUMMARY:Black Currant Agronomy Panel
DESCRIPTION:Black currants are a nutritious berry crop gaining interest among health-conscience consumers and farmers seeking to diversify their operations alike. Eric Wolske has led research at the University of Illinois on currant cultivar performance and best practices for growing currants in orchards\, agroforestry systems\, and even in parks and yards. Moderated by Bill Davison\, Eric will go over some of the exciting components of his research on currants and share some of the lessons he’s learned to help future and current currant growers maximize production of this delicious and nutritious up-and-coming fruit.
URL:https://regenerativeagideanetwork.org/event/black-currant-agronomy-panel/
LOCATION:Online\, DC
CATEGORIES:Webinar
END:VEVENT
BEGIN:VEVENT
DTSTART;VALUE=DATE:20210423
DTEND;VALUE=DATE:20210426
DTSTAMP:20260421T182931
CREATED:20210415T155229Z
LAST-MODIFIED:20210415T193702Z
UID:6382-1619136000-1619395199@regenerativeagideanetwork.org
SUMMARY:Building Your Permaculture Property
DESCRIPTION:This free\, live\, online global summit is sponsored by New Society Publishers and hosted by Building Your Permaculture Property co-authors Rob and Michelle Avis\, founders of Verge Permaculture\, and Takota Coen of Coen Farm. Michelle\, Rob\, and Takota will be offering an inspiring\, information-packed keynote on their five-step process to design and build a thriving permaculture property. Afterward\, they’ll interview nearly 20 world-renowned permaculture pioneers about their own early beginnings\, painful lessons\, hard-won victories\, and inspiring case studies.
URL:https://regenerativeagideanetwork.org/event/building-your-permaculture-property/
CATEGORIES:Virtual Convening
END:VEVENT
BEGIN:VEVENT
DTSTART;TZID=America/Los_Angeles:20210423T100000
DTEND;TZID=America/Los_Angeles:20210423T113000
DTSTAMP:20260421T182931
CREATED:20210415T155229Z
LAST-MODIFIED:20210415T193503Z
UID:6383-1619172000-1619177400@regenerativeagideanetwork.org
SUMMARY:Stolen Land: The Struggle for Rematriation
DESCRIPTION:The New School at Commonweal presents this virtual event as part of the Roots of Resilience in An Age of Crisis series co-presented with Real Food Media. UCSF Associate Professor of Medicine Dr. Rupa Marya and A-dae Romero-Briones of the First Nations Development Institute discuss efforts around the country to take on the aftermath of centuries of government-sanctioned and led land dispossession and cultural decimation. Together with TNS Host and Author Anna Lappé\, Rupa and A-dae will share strategies toward a vision to protect and uplift Native agro-ecological traditions\, including efforts to rematriate thousands of acres of land across the country.
URL:https://regenerativeagideanetwork.org/event/stolen-land-the-struggle-for-rematriation/
LOCATION:Online\, DC
CATEGORIES:Webinar
END:VEVENT
END:VCALENDAR