BEGIN:VCALENDAR
VERSION:2.0
PRODID:-//REGAIN - ECPv6.10.2//NONSGML v1.0//EN
CALSCALE:GREGORIAN
METHOD:PUBLISH
X-ORIGINAL-URL:https://regenerativeagideanetwork.org
X-WR-CALDESC:Events for REGAIN
REFRESH-INTERVAL;VALUE=DURATION:PT1H
X-Robots-Tag:noindex
X-PUBLISHED-TTL:PT1H
BEGIN:VTIMEZONE
TZID:America/New_York
BEGIN:DAYLIGHT
TZOFFSETFROM:-0500
TZOFFSETTO:-0400
TZNAME:EDT
DTSTART:20210314T070000
END:DAYLIGHT
BEGIN:STANDARD
TZOFFSETFROM:-0400
TZOFFSETTO:-0500
TZNAME:EST
DTSTART:20211107T060000
END:STANDARD
END:VTIMEZONE
BEGIN:VTIMEZONE
TZID:America/Los_Angeles
BEGIN:DAYLIGHT
TZOFFSETFROM:-0800
TZOFFSETTO:-0700
TZNAME:PDT
DTSTART:20210314T100000
END:DAYLIGHT
BEGIN:STANDARD
TZOFFSETFROM:-0700
TZOFFSETTO:-0800
TZNAME:PST
DTSTART:20211107T090000
END:STANDARD
END:VTIMEZONE
BEGIN:VTIMEZONE
TZID:America/Denver
BEGIN:DAYLIGHT
TZOFFSETFROM:-0700
TZOFFSETTO:-0600
TZNAME:MDT
DTSTART:20210314T090000
END:DAYLIGHT
BEGIN:STANDARD
TZOFFSETFROM:-0600
TZOFFSETTO:-0700
TZNAME:MST
DTSTART:20211107T080000
END:STANDARD
END:VTIMEZONE
BEGIN:VTIMEZONE
TZID:America/Chicago
BEGIN:DAYLIGHT
TZOFFSETFROM:-0600
TZOFFSETTO:-0500
TZNAME:CDT
DTSTART:20210314T080000
END:DAYLIGHT
BEGIN:STANDARD
TZOFFSETFROM:-0500
TZOFFSETTO:-0600
TZNAME:CST
DTSTART:20211107T070000
END:STANDARD
END:VTIMEZONE
BEGIN:VEVENT
DTSTART;TZID=America/New_York:20210518T090000
DTEND;TZID=America/New_York:20210518T103000
DTSTAMP:20260421T183110
CREATED:20210510T165252Z
LAST-MODIFIED:20210510T213011Z
UID:6633-1621328400-1621333800@regenerativeagideanetwork.org
SUMMARY:Intro to Organic Composting and Vermicompost
DESCRIPTION:Join NOFA New York for an on-farm demonstration of an organic static aerated composting system and continuous flow vermicompost system\, hosted by Nicole Orens-Williams of Herricks Lane Farm.
URL:https://regenerativeagideanetwork.org/event/intro-to-organic-composting-and-vermicompost/
LOCATION:Herricks Lane Farm\, 81 Herricks Ln\, Riverhead\, NY\, 11901\, United States
CATEGORIES:Training/Workshop
GEO:40.958893125793;-72.575630967376
X-APPLE-STRUCTURED-LOCATION;VALUE=URI;X-ADDRESS=Herricks Lane Farm 81 Herricks Ln Riverhead NY 11901 United States;X-APPLE-RADIUS=500;X-TITLE=81 Herricks Ln:geo:-72.575630967376,40.958893125793
END:VEVENT
BEGIN:VEVENT
DTSTART;TZID=America/Los_Angeles:20210518T120000
DTEND;TZID=America/Los_Angeles:20210518T133000
DTSTAMP:20260421T183110
CREATED:20210510T165253Z
LAST-MODIFIED:20210510T204802Z
UID:6634-1621339200-1621344600@regenerativeagideanetwork.org
SUMMARY:Organic Labeling and Marketing Strategies for Meat Producers
DESCRIPTION:Join EcoFarm and the CCOF Foundation for a free webinar that takes a deep dive into the details of the organic labeling requirements for organic meat producers\, including marketing strategies for organic livestock producers who don’t have access to certified organic slaughter facilities. Expect to learn about marketing tips from successful organic meat producers\, organic labeling requirements from organic certification experts\, and state-wide efforts in California to address the lack of certified organic slaughter facilities.
URL:https://regenerativeagideanetwork.org/event/organic-labeling-and-marketing-strategies-for-meat-producers/
LOCATION:Online\, DC
CATEGORIES:Webinar
END:VEVENT
BEGIN:VEVENT
DTSTART;TZID=America/New_York:20210518T180000
DTEND;TZID=America/New_York:20210518T200000
DTSTAMP:20260421T183110
CREATED:20210510T165253Z
LAST-MODIFIED:20210510T205344Z
UID:6636-1621360800-1621368000@regenerativeagideanetwork.org
SUMMARY:Growing Ethnic Vegetables
DESCRIPTION:Increasing demand for ethnic food offers small farmers tremendous opportunities to diversify their food production systems. Small Farm Resource Center coordinator and chief grower for Carter Farms Michael Carter Jr. will lead this workshop to show small farmers how to grow and market specific crops that appeal to customers. Participants will increase their knowledge in reference to planting African runner peanuts\, cocoa yams\, African spinach and jute leaf. Topics to be covered are soil requirements\, planting\, cultivating\, harvesting and marketing of ethnic crops.
URL:https://regenerativeagideanetwork.org/event/growing-ethnic-vegetables/
LOCATION:Bates Farm\, 13450 Stonewall Jackson Road\, Woodford\, VA\, 22580\, United States
CATEGORIES:Training/Workshop
GEO:38.155551145869;-77.406641933053
X-APPLE-STRUCTURED-LOCATION;VALUE=URI;X-ADDRESS=Bates Farm 13450 Stonewall Jackson Road Woodford VA 22580 United States;X-APPLE-RADIUS=500;X-TITLE=13450 Stonewall Jackson Road:geo:-77.406641933053,38.155551145869
END:VEVENT
BEGIN:VEVENT
DTSTART;TZID=America/Denver:20210518T190000
DTEND;TZID=America/Denver:20210518T203000
DTSTAMP:20260421T183110
CREATED:20210510T165253Z
LAST-MODIFIED:20210510T205631Z
UID:6637-1621364400-1621369800@regenerativeagideanetwork.org
SUMMARY:Ranching for a Resilient Future: Virtual fencing for land\, livestock and landscape health
DESCRIPTION:Ranchers Stewardship Alliance continues its monthly Rural Resilience webinar series with this session featuring Leo Barthelmess\, Barthelmess Ranch\, and Todd Parker\, Vence Inc. They will be discussing virtual fences\, an exciting new technology at the forefront of future range management. The distribution of the collared livestock can be carefully and precisely controlled via software interface: grazing cells can be adaptively moved or modified according to conditions and vegetation growth. This webinar will explore what this means for land management\, wildlife movement\, and the future of ranching.
URL:https://regenerativeagideanetwork.org/event/ranching-for-a-resilient-future-virtual-fencing-for-land-livestock-and-landscape-health/
LOCATION:Online\, DC
CATEGORIES:Webinar
END:VEVENT
BEGIN:VEVENT
DTSTART;TZID=America/Chicago:20210519T120000
DTEND;TZID=America/Chicago:20210519T130000
DTSTAMP:20260421T183110
CREATED:20210510T165253Z
LAST-MODIFIED:20210510T170553Z
UID:6639-1621425600-1621429200@regenerativeagideanetwork.org
SUMMARY:Iowa Learning Farms Webinar: Linda Prokopy
DESCRIPTION:Iowa Learning Farms continues its free lunch-hour webinar series with this presentation by Linda Prokopy\, Purdue University.
URL:https://regenerativeagideanetwork.org/event/iowa-learning-farms-webinar-linda-prokopy/
LOCATION:Online\, DC
CATEGORIES:Webinar
END:VEVENT
BEGIN:VEVENT
DTSTART;TZID=America/Los_Angeles:20210521T100000
DTEND;TZID=America/Los_Angeles:20210521T113000
DTSTAMP:20260421T183110
CREATED:20210510T165254Z
LAST-MODIFIED:20210510T210243Z
UID:6644-1621591200-1621596600@regenerativeagideanetwork.org
SUMMARY:Seed-Saving: Preserving Culture and Building Resilience
DESCRIPTION:This virtual event is part of the Roots of Resilience in An Age of Crisis series presented by The New School at Commonweal and Real Food Media. Seed savers Kristyn Leach of Namu Farm and Second Generation Seeds in Yolo County\, California\, and Jessika Greendeer of Dream of Wild Health in Twin Cities\, Minnesota\, will talk about the “why” behind their seed-saving practices. Together with Host Tiffani Patton\, Jessika and Kristyn will explore the role of seed-saving in preserving and connecting to culture and why we need seed diversity to withstand the climate crisis.
URL:https://regenerativeagideanetwork.org/event/seed-saving-preserving-culture-and-building-resilience/
LOCATION:Online\, DC
CATEGORIES:Virtual Convening
END:VEVENT
BEGIN:VEVENT
DTSTART;TZID=America/Los_Angeles:20210522T090000
DTEND;TZID=America/Los_Angeles:20210522T150000
DTSTAMP:20260421T183110
CREATED:20210510T165254Z
LAST-MODIFIED:20210510T211244Z
UID:6645-1621674000-1621695600@regenerativeagideanetwork.org
SUMMARY:Grazing for Soil Health and Productivity Workshop
DESCRIPTION:Join the Amador RCD and Spencer Smith\, accredited Savory Institute Field Professional and Modoc County rancher\, in a day-long workshop examining the ways in which grazing management can be used as a tool for increasing productivity\, profitability\, and ecosystem health. The workshop will be held at Circle Ranch. Participants interested in seeing holistic management applications in different contexts may follow along for two additional days of site visits at ranches in the region.
URL:https://regenerativeagideanetwork.org/event/grazing-for-soil-health-productivity-workshop/
LOCATION:Circle Ranch\, 1000 Cook Road\, Ione\, CA\, 95640\, United States
CATEGORIES:Training/Workshop
GEO:38.308073057097;-121.00933149257
X-APPLE-STRUCTURED-LOCATION;VALUE=URI;X-ADDRESS=Circle Ranch 1000 Cook Road Ione CA 95640 United States;X-APPLE-RADIUS=500;X-TITLE=1000 Cook Road:geo:-121.00933149257,38.308073057097
END:VEVENT
END:VCALENDAR