BEGIN:VCALENDAR
VERSION:2.0
PRODID:-//REGAIN - ECPv6.10.2//NONSGML v1.0//EN
CALSCALE:GREGORIAN
METHOD:PUBLISH
X-ORIGINAL-URL:https://regenerativeagideanetwork.org
X-WR-CALDESC:Events for REGAIN
REFRESH-INTERVAL;VALUE=DURATION:PT1H
X-Robots-Tag:noindex
X-PUBLISHED-TTL:PT1H
BEGIN:VTIMEZONE
TZID:America/Denver
BEGIN:DAYLIGHT
TZOFFSETFROM:-0700
TZOFFSETTO:-0600
TZNAME:MDT
DTSTART:20210314T090000
END:DAYLIGHT
BEGIN:STANDARD
TZOFFSETFROM:-0600
TZOFFSETTO:-0700
TZNAME:MST
DTSTART:20211107T080000
END:STANDARD
END:VTIMEZONE
BEGIN:VTIMEZONE
TZID:America/New_York
BEGIN:DAYLIGHT
TZOFFSETFROM:-0500
TZOFFSETTO:-0400
TZNAME:EDT
DTSTART:20210314T070000
END:DAYLIGHT
BEGIN:STANDARD
TZOFFSETFROM:-0400
TZOFFSETTO:-0500
TZNAME:EST
DTSTART:20211107T060000
END:STANDARD
END:VTIMEZONE
BEGIN:VTIMEZONE
TZID:America/Chicago
BEGIN:DAYLIGHT
TZOFFSETFROM:-0600
TZOFFSETTO:-0500
TZNAME:CDT
DTSTART:20210314T080000
END:DAYLIGHT
BEGIN:STANDARD
TZOFFSETFROM:-0500
TZOFFSETTO:-0600
TZNAME:CST
DTSTART:20211107T070000
END:STANDARD
END:VTIMEZONE
BEGIN:VEVENT
DTSTART;VALUE=DATE:20210726
DTEND;VALUE=DATE:20210729
DTSTAMP:20260421T135000
CREATED:20210630T145531Z
LAST-MODIFIED:20210630T145531Z
UID:7277-1627257600-1627516799@regenerativeagideanetwork.org
SUMMARY:Soil and Water Conservation Society International Annual Conference
DESCRIPTION:July 26-28\, 2021\nOnline\nThe Soil and Water Conservation Society is presenting its Annual Conference\, “One World\, Connected through Conservation\,” online. Professionals advancing conservation solutions through research and practice in public and private sectors will present their work\, including the latest in soil health\, water resources\, conservation management\, climate change adaptation\, social science\, and more. Workshops\, symposia sessions\, and posters will showcase ideas\, technologies\, and practices\, and foster a dialogue around their adoption.
URL:https://regenerativeagideanetwork.org/event/soil-and-water-conservation-society-international-annual-conference/
END:VEVENT
BEGIN:VEVENT
DTSTART;VALUE=DATE:20210726
DTEND;VALUE=DATE:20210731
DTSTAMP:20260421T135000
CREATED:20210630T145531Z
LAST-MODIFIED:20210630T145531Z
UID:7278-1627257600-1627689599@regenerativeagideanetwork.org
SUMMARY:Kneading Conference
DESCRIPTION:July 26-30\, 2021\nOnline\nThe Kneading Conference brings together grainiacs and bread buffs from all over the country. Farmers\, professional and home bakers\, brewers\, chefs\, cooks\, grain researchers\, maltsters\, food entrepreneurs\, and wood-fired oven enthusiasts gather to educate one another about the art and science of growing and milling grains\, baking artisan breads\, and brewing delicious beer. This year’s virtual conference features more than 25 workshops\, demos\, panels\, and discussions led by grain leaders from around the world. Attendees may watch live or view the class later (workshop recordings will be available for six months).
URL:https://regenerativeagideanetwork.org/event/kneading-conference/
END:VEVENT
BEGIN:VEVENT
DTSTART;TZID=America/Denver:20210726T093000
DTEND;TZID=America/Denver:20210726T120000
DTSTAMP:20260421T135000
CREATED:20210630T145531Z
LAST-MODIFIED:20210630T145531Z
UID:7279-1627291800-1627300800@regenerativeagideanetwork.org
SUMMARY:Rotational Grazing Workshop
DESCRIPTION:July 26\, 2021\nDover-Foxcroft\, Maine\nPiscataquis County Soil and Water Conservation District is offering a half-day Rotational Grazing Workshop with Widdershins LLC’s Wendy Russell. Learn from an experienced farmer. Space is limited.
URL:https://regenerativeagideanetwork.org/event/rotational-grazing-workshop/
END:VEVENT
BEGIN:VEVENT
DTSTART;TZID=America/New_York:20210726T123000
DTEND;TZID=America/New_York:20210726T143000
DTSTAMP:20260421T135000
CREATED:20210630T145531Z
LAST-MODIFIED:20210630T145531Z
UID:7280-1627302600-1627309800@regenerativeagideanetwork.org
SUMMARY:Building Equitable Farmland Tenure Models for Northeast Farmers
DESCRIPTION:July 26\, 2021\nOnline\nNortheast Farmers of Color Land Trust partnered with Agrarian Trust to co-host “Building Equitable Farmland Tenure Models for Northeast Farmers\,” an online Equitable Land Access (ELA) Co-Learning and Training opportunity for 100 participants interested in advancing equitable farmland access opportunities in their communities. The second session is “The Land Tenure Power Structure in America.” This training is meant to be for residents of Vermont\, New Hampshire\, or Maine and also meant to be for agricultural service providers who help guide farmland owners and/or farmland seekers about different options available to them\, but anyone interested may register for this free training.
URL:https://regenerativeagideanetwork.org/event/building-equitable-farmland-tenure-models-for-northeast-farmers-2/
END:VEVENT
BEGIN:VEVENT
DTSTART;TZID=America/Denver:20210727T090000
DTEND;TZID=America/Denver:20210727T100000
DTSTAMP:20260421T135000
CREATED:20210630T145532Z
LAST-MODIFIED:20210630T145532Z
UID:7281-1627376400-1627380000@regenerativeagideanetwork.org
SUMMARY:Farmer-Farmland Match & Market Maker
DESCRIPTION:July 27\, 2021\nOnline\nVirginia Cooperative Extension Small Farm Outreach Program is presenting this virtual event.
URL:https://regenerativeagideanetwork.org/event/farmer-farmland-match-market-maker/
END:VEVENT
BEGIN:VEVENT
DTSTART;TZID=America/Denver:20210727T100000
DTEND;TZID=America/Denver:20210727T133000
DTSTAMP:20260421T135000
CREATED:20210630T145532Z
LAST-MODIFIED:20210630T145532Z
UID:7282-1627380000-1627392600@regenerativeagideanetwork.org
SUMMARY:Whole Farm Planning
DESCRIPTION:July 27\, 2021\nPetersburg\, Pennsylvania\nVirginia Cooperative Extension’s Small Farm Outreach Program presents this mid-day workshop at Randolph Farm. Registration is limited.
URL:https://regenerativeagideanetwork.org/event/whole-farm-planning/
END:VEVENT
BEGIN:VEVENT
DTSTART;TZID=America/New_York:20210727T143000
DTEND;TZID=America/New_York:20210727T163000
DTSTAMP:20260421T135000
CREATED:20210630T145532Z
LAST-MODIFIED:20210630T145532Z
UID:7283-1627396200-1627403400@regenerativeagideanetwork.org
SUMMARY:Veterans Harvest: A Virtual Conference for Veterans in Agriculture
DESCRIPTION:July 27 – August 24\, 2021\nOnline\nThe National AgrAbility Project is presenting Veterans Harvest: A Virtual Conference for Veterans in Agriculture on five consecutive Tuesdays\, beginning July 27\, 2021. All sessions are free. The first session includes a conference introduction by Cindy Chastain\, National AgrAbility Project\, and Jeanette Lombardo\, Farmer Veteran Coalition\, plus “One Veteran’s Journey from PTSD to Farmer” by Sarah Creech\, Blue Yonder Organic Farm and Indiana Farmer Veteran Coalition.
URL:https://regenerativeagideanetwork.org/event/veterans-harvest-a-virtual-conference-for-veterans-in-agriculture/
END:VEVENT
BEGIN:VEVENT
DTSTART;VALUE=DATE:20210729
DTEND;VALUE=DATE:20210730
DTSTAMP:20260421T135000
CREATED:20210630T145532Z
LAST-MODIFIED:20210630T145532Z
UID:7284-1627516800-1627603199@regenerativeagideanetwork.org
SUMMARY:Purdue Student Farm Small Farm Education Field Day
DESCRIPTION:July 29\, 2021\nWest Lafayette\, Indiana\nThe Purdue Student Farm and Department of Horticulture and Landscape Architecture invite farmers and produce growers to attend the Small Farm Education Field Day. The in-person field day will occur at the student farm. Purdue experts will share demonstrations about weed identification\, soil health\, vegetable diseases and pests\, and good agricultural practices for postharvest operations. Specific crop demonstrations will include hemp\, onion\, sweet pepper\, eggplant\, pepper\, and tomato in various production systems.
URL:https://regenerativeagideanetwork.org/event/purdue-student-farm-small-farm-education-field-day/
END:VEVENT
BEGIN:VEVENT
DTSTART;TZID=America/New_York:20210729T100000
DTEND;TZID=America/New_York:20210729T120000
DTSTAMP:20260421T135000
CREATED:20210630T145532Z
LAST-MODIFIED:20210630T145532Z
UID:7285-1627552800-1627560000@regenerativeagideanetwork.org
SUMMARY:Increasing Profits through Value Added Products
DESCRIPTION:July 29\, 2021\nWhite Stone\, Virginia\nVirginia Cooperative Extension Small Farm Outreach Program is offering this morning workshop at Georgiatown Farm. Enrollment is limited.
URL:https://regenerativeagideanetwork.org/event/increasing-profits-through-value-added-products/
END:VEVENT
BEGIN:VEVENT
DTSTART;TZID=America/Chicago:20210729T120000
DTEND;TZID=America/Chicago:20210729T130000
DTSTAMP:20260421T135000
CREATED:20210630T145533Z
LAST-MODIFIED:20210630T145533Z
UID:7286-1627560000-1627563600@regenerativeagideanetwork.org
SUMMARY:Restore Native Habitat
DESCRIPTION:July 29\, 2021\nOnline\nThis online event is part of Wisconsin Women in Conservation’s Conservation Summer Camp Series. In this one-hour webinar\, learn how to safely battle invasive species and nurture a healthy ecosystem. Connect with conservation experts\, meet other inspiring Wisconsin women that share your love of the land\, and learn about NRCS resources to support your conservation goals.
URL:https://regenerativeagideanetwork.org/event/restore-native-habitat/
END:VEVENT
BEGIN:VEVENT
DTSTART;VALUE=DATE:20210730
DTEND;VALUE=DATE:20210731
DTSTAMP:20260421T135000
CREATED:20210630T145533Z
LAST-MODIFIED:20210630T145533Z
UID:7288-1627603200-1627689599@regenerativeagideanetwork.org
SUMMARY:Alachua County Small-Producer Agriculture Capital Support Grant
DESCRIPTION:Alachua County\, Florida’s\, Board of County Commissioners is funding a mini-grant to Alachua County-based farms and ranches that earn between $1\,000 and $250\,000 per year. Funding is for capital and equipment expenditures that will positively impact these operations’ income. The total grant request must not exceed $5\,000. To reduce inequity in marginalized communities\, this grant will also prioritize small farms and ranches that are owned by black\, women\, indigenous\, and persons-of-color.\nApplications are due by July 30\, 2021.
URL:https://regenerativeagideanetwork.org/event/alachua-county-small-producer-agriculture-capital-support-grant/
CATEGORIES:Funding Opportunities
END:VEVENT
BEGIN:VEVENT
DTSTART;VALUE=DATE:20210730
DTEND;VALUE=DATE:20210731
DTSTAMP:20260421T135000
CREATED:20210630T145533Z
LAST-MODIFIED:20210630T145533Z
UID:7289-1627603200-1627689599@regenerativeagideanetwork.org
SUMMARY:Urban Agriculture and Innovative Production Competitive Grants Program
DESCRIPTION:USDA’s Office of Urban Agriculture and Innovative Production is accepting applications for the Urban Agriculture and Innovative Production Competitive Grants Program. Both Planning Grants and Implementation Grants are available. Planning projects initiate or expand efforts of farmers\, gardeners\, citizens\, government officials\, schools and other stakeholders in urban and suburban areas and can range from $50\,000 to $200\,000. Projects may target areas of food access\, education\, business and start-up costs for new farmers\, urban agroforestry or food forests\, and development of policies related to zoning and other needs of urban production. Implementation projects accelerate existing and emerging models of urban\, indoor and other agricultural practices that serve multiple farmers. They range from $50\,000 to $300\,000. Projects will improve local food access and collaborate with partner organizations and may support infrastructure needs\, emerging technologies\, educational endeavors\, and urban farming policy implementation.\nApplications will be accepted until July 30\, 2021.
URL:https://regenerativeagideanetwork.org/event/urban-agriculture-and-innovative-production-competitive-grants-program/
CATEGORIES:Funding Opportunities
END:VEVENT
END:VCALENDAR