BEGIN:VCALENDAR
VERSION:2.0
PRODID:-//REGAIN - ECPv6.10.2//NONSGML v1.0//EN
CALSCALE:GREGORIAN
METHOD:PUBLISH
X-ORIGINAL-URL:https://regenerativeagideanetwork.org
X-WR-CALDESC:Events for REGAIN
REFRESH-INTERVAL;VALUE=DURATION:PT1H
X-Robots-Tag:noindex
X-PUBLISHED-TTL:PT1H
BEGIN:VTIMEZONE
TZID:America/New_York
BEGIN:DAYLIGHT
TZOFFSETFROM:-0500
TZOFFSETTO:-0400
TZNAME:EDT
DTSTART:20210314T070000
END:DAYLIGHT
BEGIN:STANDARD
TZOFFSETFROM:-0400
TZOFFSETTO:-0500
TZNAME:EST
DTSTART:20211107T060000
END:STANDARD
END:VTIMEZONE
BEGIN:VTIMEZONE
TZID:America/Chicago
BEGIN:DAYLIGHT
TZOFFSETFROM:-0600
TZOFFSETTO:-0500
TZNAME:CDT
DTSTART:20210314T080000
END:DAYLIGHT
BEGIN:STANDARD
TZOFFSETFROM:-0500
TZOFFSETTO:-0600
TZNAME:CST
DTSTART:20211107T070000
END:STANDARD
END:VTIMEZONE
BEGIN:VTIMEZONE
TZID:America/Denver
BEGIN:DAYLIGHT
TZOFFSETFROM:-0700
TZOFFSETTO:-0600
TZNAME:MDT
DTSTART:20210314T090000
END:DAYLIGHT
BEGIN:STANDARD
TZOFFSETFROM:-0600
TZOFFSETTO:-0700
TZNAME:MST
DTSTART:20211107T080000
END:STANDARD
END:VTIMEZONE
BEGIN:VTIMEZONE
TZID:America/Chicago
BEGIN:DAYLIGHT
TZOFFSETFROM:-0600
TZOFFSETTO:-0500
TZNAME:CDT
DTSTART:20210314T080000
END:DAYLIGHT
BEGIN:STANDARD
TZOFFSETFROM:-0500
TZOFFSETTO:-0600
TZNAME:CST
DTSTART:20211107T070000
END:STANDARD
END:VTIMEZONE
BEGIN:VEVENT
DTSTART;TZID=America/New_York:20210809T090000
DTEND;TZID=America/New_York:20210809T110000
DTSTAMP:20260421T134909
CREATED:20210803T211953Z
LAST-MODIFIED:20210803T211953Z
UID:7510-1628499600-1628506800@regenerativeagideanetwork.org
SUMMARY:Small Farm Orientation
DESCRIPTION:August 9\, 2021\nOnline\nVirginia Cooperative Extension’s Small Farm Outreach Program presents this virtual event.
URL:https://regenerativeagideanetwork.org/event/small-farm-orientation/
END:VEVENT
BEGIN:VEVENT
DTSTART;TZID=America/Chicago:20210809T090000
DTEND;TZID=America/Chicago:20210809T120000
DTSTAMP:20260421T134909
CREATED:20210803T211954Z
LAST-MODIFIED:20210803T211954Z
UID:7511-1628499600-1628510400@regenerativeagideanetwork.org
SUMMARY:New Concept Tractor with Co-Founder\, Horace Clemmons
DESCRIPTION:August 9\, 2021\nJackson\, Mississippi\, and online\nJoin NCAT either virtually or in person to learn all about a new tractor concept for small producers with company co-founder Horace Clemmons. These tractors are designed for: Easy Maintenance\, Work Horse\, Repair in Field\, Small Farmer\, Specialty Crop Producer\, and    Organic Grower.
URL:https://regenerativeagideanetwork.org/event/new-concept-tractor-with-co-founder-horace-clemmons/
END:VEVENT
BEGIN:VEVENT
DTSTART;TZID=America/New_York:20210809T123000
DTEND;TZID=America/New_York:20210809T143000
DTSTAMP:20260421T134909
CREATED:20210803T211954Z
LAST-MODIFIED:20210803T211954Z
UID:7512-1628512200-1628519400@regenerativeagideanetwork.org
SUMMARY:Building Equitable Farmland Tenure Models for Northeast Farmers
DESCRIPTION:August 9\, 2021\nOnline\nNortheast Farmers of Color Land Trust partnered with Agrarian Trust to co-host “Building Equitable Farmland Tenure Models for Northeast Farmers\,” an online Equitable Land Access (ELA) Co-Learning and Training opportunity for 100 participants interested in advancing equitable farmland access opportunities in their communities. This final session is “Land-As-Community: Equitable Farmland Tenure Models and Case Studies.” This free training is meant to be for residents of Vermont\, New Hampshire\, or Maine and also is meant to be for agricultural service providers who help guide farmland owners and/or farmland seekers about different options available to them\, but anyone interested may register.
URL:https://regenerativeagideanetwork.org/event/building-equitable-farmland-tenure-models-for-northeast-farmers-3/
END:VEVENT
BEGIN:VEVENT
DTSTART;TZID=America/New_York:20210810T100000
DTEND;TZID=America/New_York:20210810T120000
DTSTAMP:20260421T134909
CREATED:20210803T211954Z
LAST-MODIFIED:20210803T211954Z
UID:7513-1628589600-1628596800@regenerativeagideanetwork.org
SUMMARY:Rabbit Grazing with Soil Management
DESCRIPTION:August 10\, 2021\nBurkeville\, Virginia\nVirginia Cooperative Extension’s Small Farm Outreach Program is offering this morning workshop at ATV Farm. Registration is limited.
URL:https://regenerativeagideanetwork.org/event/rabbit-grazing-with-soil-management/
END:VEVENT
BEGIN:VEVENT
DTSTART;TZID=America/New_York:20210810T130000
DTEND;TZID=America/New_York:20210810T143000
DTSTAMP:20260421T134909
CREATED:20210803T211955Z
LAST-MODIFIED:20210803T211955Z
UID:7514-1628600400-1628605800@regenerativeagideanetwork.org
SUMMARY:Veterans Harvest: A Virtual Conference for Veterans in Agriculture
DESCRIPTION:August 10\, 2021\nOnline\nThe National AgrAbility Project is presenting Veterans Harvest: A Virtual Conference for Veterans in Agriculture on five consecutive Tuesdays in July and August. All sessions are free. This session is “Programming for Veterans in Agriculture: How Maine Does It.”
URL:https://regenerativeagideanetwork.org/event/veterans-harvest-a-virtual-conference-for-veterans-in-agriculture-3/
END:VEVENT
BEGIN:VEVENT
DTSTART;TZID=America/New_York:20210810T180000
DTEND;TZID=America/New_York:20210810T200000
DTSTAMP:20260421T134909
CREATED:20210803T211955Z
LAST-MODIFIED:20210803T211955Z
UID:7515-1628618400-1628625600@regenerativeagideanetwork.org
SUMMARY:Seed Saving 101 Course
DESCRIPTION:August 10\, 2021\nOnline\nOrganic Growers School is offering this online Seed Saving 101 course. Learn why\, how\, and when to save seeds; with a focus on harvesting and processing for viability\, good germination\, and storage. This class will include demonstrations on low tech seed processing methods.
URL:https://regenerativeagideanetwork.org/event/seed-saving-101-course/
END:VEVENT
BEGIN:VEVENT
DTSTART;TZID=America/New_York:20210811T120000
DTEND;TZID=America/New_York:20210811T133000
DTSTAMP:20260421T134909
CREATED:20210803T211955Z
LAST-MODIFIED:20210803T211955Z
UID:7516-1628683200-1628688600@regenerativeagideanetwork.org
SUMMARY:Small Farm Education Webinar Series
DESCRIPTION:August 11\, 2021\nOnline\nPurdue Student Farm’s Small Farm Education Webinar Series continues with this session. Topics include Field Production of Specialty Melons\, High Tunnel Specialty Melon Production\, and Vegetable Production in Raised Beds.
URL:https://regenerativeagideanetwork.org/event/small-farm-education-webinar-series-3/
END:VEVENT
BEGIN:VEVENT
DTSTART;TZID=America/Denver:20210811T150000
DTEND;TZID=America/Denver:20210811T190000
DTSTAMP:20260421T134909
CREATED:20210803T211956Z
LAST-MODIFIED:20210803T211956Z
UID:7517-1628694000-1628708400@regenerativeagideanetwork.org
SUMMARY:Soil Crawl at XX Bar Ranch
DESCRIPTION:August 11\, 2021\nHelena\, Montana\nNorthern Plains Resource Council is offering this Soil Crawl at the XX Bar Ranch. Learn from Becky Ayre with NCRS and innovative producer Tim Dusenberry\, who will showcase his diversified operation\, featuring the practices and principles that help him cultivate healthy soil\, prospering crops\, thriving animals\, and good food. Topics include planned/”mob” grazing and direct marketing.
URL:https://regenerativeagideanetwork.org/event/soil-crawl-at-xx-bar-ranch/
END:VEVENT
BEGIN:VEVENT
DTSTART;TZID=America/Denver:20210811T183000
DTEND;TZID=America/Denver:20210811T203000
DTSTAMP:20260421T134909
CREATED:20210803T211956Z
LAST-MODIFIED:20210803T211956Z
UID:7518-1628706600-1628713800@regenerativeagideanetwork.org
SUMMARY:Focusing on Forages: A Summer Grazing Series
DESCRIPTION:August 11\, 2021\nMenlo\, Iowa\nThis is the third of Iowa State University Extension and Outreach’s summer grazing series. In this session\, Deha Miller and the Warren Gilman farm will offer information and resources for producers to improve management practices and capitalize on alternative forage resources to extend the grazing season.
URL:https://regenerativeagideanetwork.org/event/focusing-on-forages-a-summer-grazing-series/
END:VEVENT
BEGIN:VEVENT
DTSTART;TZID=America/Denver:20210812T080000
DTEND;TZID=America/Denver:20210812T170000
DTSTAMP:20260421T134909
CREATED:20210803T211956Z
LAST-MODIFIED:20210803T211956Z
UID:7519-1628755200-1628787600@regenerativeagideanetwork.org
SUMMARY:Battle Ground to Breaking Ground Agriculture Business Workshop
DESCRIPTION:August 12\, 2021\nBelton\, Texas\nJoin Texas AgrAbility for a one-day workshop designed for military veterans\, beginning farmers and ranchers\, individuals with disabilities\, and anyone interested in starting an agriculture business. Topics include starting a business\, funding and resources\, and farming with a disability.
URL:https://regenerativeagideanetwork.org/event/battle-ground-to-breaking-ground-agriculture-business-workshop/
END:VEVENT
BEGIN:VEVENT
DTSTART;TZID=America/Denver:20210812T083000
DTEND;TZID=America/Denver:20210812T140000
DTSTAMP:20260421T134909
CREATED:20210803T211957Z
LAST-MODIFIED:20210803T211957Z
UID:7520-1628757000-1628776800@regenerativeagideanetwork.org
SUMMARY:Soil Health Field Day at A-Frame Farms
DESCRIPTION:August 12\, 2021\nMadison\, Minnesota\nThis free field day from Minnesota Soil Health Coalition offers a farmer-to-farmer networking opportunity over lunch and sessions on benchmarking soil health\, cover crop mixes\, organic management\, and livestock integration. This event will highlight the work simple Mills is doing that gives farmers another opportunity to diversify rotations.
URL:https://regenerativeagideanetwork.org/event/soil-health-field-day-at-a-frame-farms/
END:VEVENT
BEGIN:VEVENT
DTSTART;TZID=America/New_York:20210812T100000
DTEND;TZID=America/New_York:20210812T120000
DTSTAMP:20260421T134909
CREATED:20210803T211957Z
LAST-MODIFIED:20210803T211957Z
UID:7521-1628762400-1628769600@regenerativeagideanetwork.org
SUMMARY:Increasing Profits through Value Added Products
DESCRIPTION:August 12\, 2021\nWhite Stone\, Virginia\nVirginia Cooperative Extension’s Small Farm Outreach Program is holding this morning workshop at Georgiatown Farm. Enrollment is limited.
URL:https://regenerativeagideanetwork.org/event/increasing-profits-through-value-added-products-2/
END:VEVENT
BEGIN:VEVENT
DTSTART;TZID=America/New_York:20210812T153000
DTEND;TZID=America/New_York:20210812T173000
DTSTAMP:20260421T134909
CREATED:20210803T211957Z
LAST-MODIFIED:20210803T211957Z
UID:7522-1628782200-1628789400@regenerativeagideanetwork.org
SUMMARY:Pest & Disease Walk for Commercial Growers
DESCRIPTION:August 12\, 2021\nWilliamstown\, Vermont\nThis afternoon workshop from NOFA Vermont is free for commercial growers. Join UVM pathologist Ann Hazelrigg and entomologists Vic Izzo and Scott Lewins for a field walk to learn about\, identify\, and discuss solutions for this year’s pests and diseases\, including integrated pest management (IPM) techniques. This workshop will be hosted at the certified organic mixed vegetable farm Bear Roots Farm in Williamstown and is geared toward commercial organic vegetable growers.
URL:https://regenerativeagideanetwork.org/event/pest-disease-walk-for-commercial-growers/
END:VEVENT
BEGIN:VEVENT
DTSTART;TZID=America/Chicago:20210812T160000
DTEND;TZID=America/Chicago:20210812T180000
DTSTAMP:20260421T134909
CREATED:20210728T161222Z
LAST-MODIFIED:20210728T161222Z
UID:7452-1628784000-1628791200@regenerativeagideanetwork.org
SUMMARY:Hazelnut field day
DESCRIPTION:[et_pb_section fb_built=”1″ admin_label=”Not Editable” _builder_version=”4.6.0″ _module_preset=”default” background_enable_color=”off” background_image=”https://www.savannainstitute.org/wp-content/uploads/2020/08/agroforestrybanner_colortrees.jpg” background_position=”bottom_center” min_height=”400px” min_height_tablet=”” min_height_phone=”200px” min_height_last_edited=”on|phone” custom_margin=”||0px||false|false” custom_margin_tablet=”” custom_margin_phone=”” custom_margin_last_edited=”on|desktop” custom_padding=”||0px||false|false”][et_pb_row _builder_version=”4.6.0″ _module_preset=”default”][et_pb_column type=”4_4″ _builder_version=”4.5.6″ _module_preset=”default”][/et_pb_column][/et_pb_row][/et_pb_section][et_pb_section fb_built=”1″ admin_label=”section” _builder_version=”4.9.4″ background_color=”#FFFFFF” collapsed=”off”][et_pb_row _builder_version=”4.6.0″ _module_preset=”default” background_color=”#ffffff” custom_margin=”-6%||||false|false” custom_padding=”2em|2em|2em|2em|false|false”][et_pb_column type=”4_4″ _builder_version=”4.6.0″ _module_preset=”default”][et_pb_text admin_label=”Title Taken From Post Title (not editable)” _builder_version=”4.6.0″ _dynamic_attributes=”content” _module_preset=”default” text_font=”|700|||||||” text_text_color=”#507754″ text_font_size=”30px”]@ET-DC@eyJkeW5hbWljIjp0cnVlLCJjb250ZW50IjoicG9zdF90aXRsZSIsInNldHRpbmdzIjp7ImJlZm9yZSI6IiIsImFmdGVyIjoiIn19@[/et_pb_text][et_pb_text admin_label=”Enter or Edit Event Description” _builder_version=”4.9.9″ _module_preset=”default” text_text_color=”#507754″ text_font_size=”18px” hover_enabled=”0″ sticky_enabled=”0″] \nJason Fischbach\, UW Extension\, along with the Savanna Institute\, The Central Wisconsin Hazelnut Network and UW-CIAS will be hosting a Hazelnut Field Day on Thursday August 12th \nTopics and demonstrations covered during this Field Day are:  \n\nHazelnuts 101 in the classroom\nLearn how to layout your field for planting commercial grade hazelnuts and hazelnut plants for pollination\nDemonstration on how to plant your hazelnuts\nTour of the germplasm trial on the station. Varieties include: the Grimo\, Consortium\, and other new hybrid hazelnut selections\n\nTime: 4pm – 6pm \nRegistration: There is no registration fee for this Field Day\, but we ask that you please\, register for this event. \nRefreshments:  Refreshments and light snacks will be provided by the Savanna Institute. \n[/et_pb_text][/et_pb_column][/et_pb_row][et_pb_row column_structure=”2_3\,1_3″ _builder_version=”4.6.0″ _module_preset=”default” background_color=”#ffffff” custom_padding=”2em|2em|2em|2em|false|false”][et_pb_column type=”2_3″ _builder_version=”4.6.0″ _module_preset=”default”][et_pb_code admin_label=”Event Schema Code Taken From Event Specific Info (not editable)” module_class=”outside_event” _builder_version=”4.6.0″ _module_preset=”default”] \n\nOrganizer: Time:  @ Location: Address: Website:  \n[/et_pb_code][et_pb_button button_text=”Register or More Information” button_alignment=”center” admin_label=”Editable URL for Registration or More Info” _builder_version=”4.9.9″ _module_preset=”default” custom_button=”on” button_text_color=”#ffffff” button_bg_color=”#507754″ button_border_color=”#507754″ button_font=”|||on|||||” hover_enabled=”0″ button_url=”https://docs.google.com/forms/d/e/1FAIpQLScOgkfzkNInQvLRC-u-Cx9ihYZkTmi87SGPv5yA1bX6ApbiWA/viewform” sticky_enabled=”0″][/et_pb_button][/et_pb_column][et_pb_column type=”1_3″ _builder_version=”4.6.0″ _module_preset=”default”][et_pb_image src=”@ET-DC@eyJkeW5hbWljIjp0cnVlLCJjb250ZW50IjoicG9zdF9mZWF0dXJlZF9pbWFnZSIsInNldHRpbmdzIjp7fX0=@” admin_label=”Taken From Featured Image (not editable through the Builder)” _builder_version=”4.6.0″ _dynamic_attributes=”src” _module_preset=”default”][/et_pb_image][/et_pb_column][/et_pb_row][/et_pb_section][et_pb_section fb_built=”1″ admin_label=”Not Editable” _builder_version=”4.6.0″ _module_preset=”default” collapsed=”off”][et_pb_row _builder_version=”4.6.0″ _module_preset=”default”][et_pb_column type=”4_4″ _builder_version=”4.6.0″ _module_preset=”default”][et_pb_text admin_label=”Not Editable” _builder_version=”4.6.0″ _module_preset=”default” text_text_color=”#507754″ text_font_size=”18px” header_2_text_color=”#507754″ header_2_font_size=”30px”] \nOther Events\n[/et_pb_text][decm_divi_event_calendar admin_label=”Not Editable (Events Calendar)” _builder_version=”4.6.0″ _module_preset=”default”][/decm_divi_event_calendar][/et_pb_column][/et_pb_row][/et_pb_section]
URL:https://regenerativeagideanetwork.org/event/hazelnut-field-day/
LOCATION:Madison\, West Madison Agricultural Research Station: 8502 Mineral Point Road\, Verona\, WI\, 53593\, United States
ATTACH;FMTTYPE=image/png:https://regenerativeagideanetwork.org/wp-content/uploads/2021/07/Aug-12-Hazelnut-Field-Day-qmKtLR.tmp_.png
GEO:43.064017;-89.534707
X-APPLE-STRUCTURED-LOCATION;VALUE=URI;X-ADDRESS=Madison West Madison Agricultural Research Station: 8502 Mineral Point Road Verona WI 53593 United States;X-APPLE-RADIUS=500;X-TITLE=West Madison Agricultural Research Station: 8502 Mineral Point Road:geo:-89.534707,43.064017
END:VEVENT
BEGIN:VEVENT
DTSTART;TZID=America/New_York:20210813T120000
DTEND;TZID=America/New_York:20210813T133000
DTSTAMP:20260421T134909
CREATED:20210803T211957Z
LAST-MODIFIED:20210803T211957Z
UID:7523-1628856000-1628861400@regenerativeagideanetwork.org
SUMMARY:Small Farm Education Webinar Series
DESCRIPTION:August 13\, 2021\nOnline\nPurdue Student Farm’s Small Farm Education Webinar Series concludes with this session. Topics include Pathogens of Hemp\, Biological Control of Hemp Aphids\, and Aphid and Mite Management in High Tunnel Strawberries.
URL:https://regenerativeagideanetwork.org/event/small-farm-education-webinar-series-4/
END:VEVENT
END:VCALENDAR