BEGIN:VCALENDAR
VERSION:2.0
PRODID:-//REGAIN - ECPv6.10.2//NONSGML v1.0//EN
CALSCALE:GREGORIAN
METHOD:PUBLISH
X-ORIGINAL-URL:https://regenerativeagideanetwork.org
X-WR-CALDESC:Events for REGAIN
REFRESH-INTERVAL;VALUE=DURATION:PT1H
X-Robots-Tag:noindex
X-PUBLISHED-TTL:PT1H
BEGIN:VTIMEZONE
TZID:America/Chicago
BEGIN:DAYLIGHT
TZOFFSETFROM:-0600
TZOFFSETTO:-0500
TZNAME:CDT
DTSTART:20210314T080000
END:DAYLIGHT
BEGIN:STANDARD
TZOFFSETFROM:-0500
TZOFFSETTO:-0600
TZNAME:CST
DTSTART:20211107T070000
END:STANDARD
END:VTIMEZONE
BEGIN:VEVENT
DTSTART;TZID=America/Chicago:20210917T100000
DTEND;TZID=America/Chicago:20210917T140000
DTSTAMP:20260421T135001
CREATED:20210908T162726Z
LAST-MODIFIED:20210908T162726Z
UID:7862-1631872800-1631887200@regenerativeagideanetwork.org
SUMMARY:Learning Circle event with The Land Conservancy
DESCRIPTION:[et_pb_section fb_built=”1″ admin_label=”Not Editable” _builder_version=”4.6.0″ _module_preset=”default” background_enable_color=”off” background_image=”https://www.savannainstitute.org/wp-content/uploads/2020/08/agroforestrybanner_colortrees.jpg” background_position=”bottom_center” min_height=”400px” min_height_tablet=”” min_height_phone=”200px” min_height_last_edited=”on|phone” custom_margin=”||0px||false|false” custom_margin_tablet=”” custom_margin_phone=”” custom_margin_last_edited=”on|desktop” custom_padding=”||0px||false|false”][et_pb_row _builder_version=”4.6.0″ _module_preset=”default”][et_pb_column type=”4_4″ _builder_version=”4.5.6″ _module_preset=”default”][/et_pb_column][/et_pb_row][/et_pb_section][et_pb_section fb_built=”1″ admin_label=”section” _builder_version=”4.9.4″ background_color=”#FFFFFF” collapsed=”off”][et_pb_row _builder_version=”4.6.0″ _module_preset=”default” background_color=”#ffffff” custom_margin=”-6%||||false|false” custom_padding=”2em|2em|2em|2em|false|false”][et_pb_column type=”4_4″ _builder_version=”4.6.0″ _module_preset=”default”][et_pb_text admin_label=”Title Taken From Post Title (not editable)” _builder_version=”4.9.2″ _dynamic_attributes=”content” _module_preset=”default” text_font=”|700||on|||||” text_text_color=”#507754″ text_font_size=”30px”]@ET-DC@eyJkeW5hbWljIjp0cnVlLCJjb250ZW50IjoicG9zdF90aXRsZSIsInNldHRpbmdzIjp7ImJlZm9yZSI6IiIsImFmdGVyIjoiIn19@[/et_pb_text][et_pb_text admin_label=”Enter or Edit Event Description” _builder_version=”4.9.10″ _module_preset=”default” text_text_color=”#507754″ text_font_size=”18px” hover_enabled=”0″ sticky_enabled=”0″] \nLearning Circle event with The Land Conservancy of McHenry County and Savanna Institute to gather\, catch up and learn about agroforestry and aronias. If you are a woman land owner and are interested in learning more about agroforestry and other ideas for how to utilize your land\, then this gathering is for you. \nWe are limiting capacity\, please email Michele@savannainstitute.org if you are interested in attending. \n[/et_pb_text][/et_pb_column][/et_pb_row][et_pb_row column_structure=”1_2\,1_2″ disabled_on=”on|on|on” admin_label=”row” _builder_version=”4.6.0″ background_color=”#ffffff” background_size=”initial” background_position=”top_left” background_repeat=”repeat” custom_margin=”-6%||||false|false” custom_margin_tablet=”auto||||false|false” custom_margin_phone=”auto||||false|false” custom_margin_last_edited=”on|phone” custom_padding=”2em|2em|2em|2em|false|false” disabled=”on”][et_pb_column type=”1_2″ _builder_version=”4.9.10″ _module_preset=”default”][/et_pb_column][et_pb_column type=”1_2″ _builder_version=”3.25″ custom_padding=”|||” custom_padding__hover=”|||”][et_pb_code disabled_on=”on|on|on” admin_label=”Eventbrite Embed Code (turn off if no ticketing for event)” _builder_version=”4.6.0″ _module_preset=”default” custom_padding=”2em||||false|false” disabled=”on”] \n\n    var exampleCallback = function() {        console.log(‘Order complete!’);    };    window.EBWidgets.createWidget({        // Required        widgetType: ‘checkout’\,        eventId: ‘118652413563’\,        iframeContainerId: ‘eventbrite-widget-container-118652413563’\,        // Optional        iframeContainerHeight: 425\,  // Widget height in pixels. Defaults to a minimum of 425px if not provided        onOrderComplete: exampleCallback  // Method called when an order has successfully completed    });[/et_pb_code][/et_pb_column][/et_pb_row][et_pb_row column_structure=”2_3\,1_3″ _builder_version=”4.6.0″ _module_preset=”default” background_color=”#ffffff” custom_padding=”2em|2em|2em|2em|false|false”][et_pb_column type=”2_3″ _builder_version=”4.6.0″ _module_preset=”default”][et_pb_code admin_label=”Event Schema Code Taken From Event Specific Info (not editable)” module_class=”outside_event” _builder_version=”4.9.4″ _module_preset=”default”] \n\n \nOrganizer: Time:  @ Location: Address: Website: 	 \n \n[/et_pb_code][/et_pb_column][et_pb_column type=”1_3″ _builder_version=”4.6.0″ _module_preset=”default”][et_pb_image src=”@ET-DC@eyJkeW5hbWljIjp0cnVlLCJjb250ZW50IjoicG9zdF9mZWF0dXJlZF9pbWFnZSIsInNldHRpbmdzIjp7fX0=@” admin_label=”Taken From Featured Image (not editable through the Builder)” _builder_version=”4.6.0″ _dynamic_attributes=”src” _module_preset=”default”][/et_pb_image][/et_pb_column][/et_pb_row][/et_pb_section][et_pb_section fb_built=”1″ admin_label=”Not Editable” _builder_version=”4.6.0″ _module_preset=”default” collapsed=”off”][et_pb_row _builder_version=”4.6.0″ _module_preset=”default”][et_pb_column type=”4_4″ _builder_version=”4.6.0″ _module_preset=”default”][et_pb_text admin_label=”Not Editable” _builder_version=”4.6.0″ _module_preset=”default” text_text_color=”#507754″ text_font_size=”18px” header_2_text_color=”#507754″ header_2_font_size=”30px”] \nOther Events\n[/et_pb_text][decm_divi_event_calendar admin_label=”Not Editable (Events Calendar)” _builder_version=”4.6.0″ _module_preset=”default”][/decm_divi_event_calendar][/et_pb_column][/et_pb_row][/et_pb_section]
URL:https://regenerativeagideanetwork.org/event/learning-circle-event-with-the-land-conservancy/
LOCATION:IL\, Illinois
GEO:40.6331249;-89.3985283
END:VEVENT
BEGIN:VEVENT
DTSTART;TZID=America/Chicago:20210918T090000
DTEND;TZID=America/Chicago:20210918T130000
DTSTAMP:20260421T135001
CREATED:20210825T161245Z
LAST-MODIFIED:20210825T161245Z
UID:7594-1631955600-1631970000@regenerativeagideanetwork.org
SUMMARY:Silvopasture and Riparian Buffer Field Day at Fields Restored farm
DESCRIPTION:[et_pb_section fb_built=”1″ admin_label=”Not Editable” _builder_version=”4.6.0″ _module_preset=”default” background_enable_color=”off” background_image=”https://www.savannainstitute.org/wp-content/uploads/2020/08/agroforestrybanner_colortrees.jpg” background_position=”bottom_center” min_height=”400px” min_height_tablet=”” min_height_phone=”200px” min_height_last_edited=”on|phone” custom_margin=”||0px||false|false” custom_margin_tablet=”” custom_margin_phone=”” custom_margin_last_edited=”on|desktop” custom_padding=”||0px||false|false”][et_pb_row _builder_version=”4.6.0″ _module_preset=”default”][et_pb_column type=”4_4″ _builder_version=”4.5.6″ _module_preset=”default”][/et_pb_column][/et_pb_row][/et_pb_section][et_pb_section fb_built=”1″ admin_label=”section” _builder_version=”4.9.4″ background_color=”#FFFFFF” collapsed=”off”][et_pb_row _builder_version=”4.6.0″ _module_preset=”default” background_color=”#ffffff” custom_margin=”-6%||||false|false” custom_padding=”2em|2em|2em|2em|false|false”][et_pb_column type=”4_4″ _builder_version=”4.6.0″ _module_preset=”default”][et_pb_text admin_label=”Title Taken From Post Title (not editable)” _builder_version=”4.9.2″ _dynamic_attributes=”content” _module_preset=”default” text_font=”|700||on|||||” text_text_color=”#507754″ text_font_size=”30px”]@ET-DC@eyJkeW5hbWljIjp0cnVlLCJjb250ZW50IjoicG9zdF90aXRsZSIsInNldHRpbmdzIjp7ImJlZm9yZSI6IiIsImFmdGVyIjoiIn19@[/et_pb_text][et_pb_text admin_label=”Enter or Edit Event Description” _builder_version=”4.9.10″ _module_preset=”default” text_text_color=”#507754″ text_font_size=”18px”] \nIllinois Community Agroforester Kaitie Adams\, and landowners Scott & Sandy Williams\, will lead the group through Fields Restored’s silvopasture experiment\, edible riparian buffer\, and fruit\, nut and hay alley cropping systems. Fields Restored is a privately owned 166-acre row-crop farm near Oregon\, Illinois; by the Williams family. They first worked with the Savanna Institute to transition 20 acres to alley cropping in 2015. After seeing the rapid revitalization of this parcel\, they are now committed to converting more of their farm into the prime agroforestry demonstration farm of Northern Illinois. The diverse topography and ecology of their land are ideal for demonstrating a range of agroforestry practices. \n[/et_pb_text][/et_pb_column][/et_pb_row][et_pb_row admin_label=”row” _builder_version=”4.6.0″ background_color=”#ffffff” background_size=”initial” background_position=”top_left” background_repeat=”repeat” custom_margin=”-6%||||false|false” custom_margin_tablet=”auto||||false|false” custom_margin_phone=”auto||||false|false” custom_margin_last_edited=”on|phone” custom_padding=”2em|2em|2em|2em|false|false”][et_pb_column type=”4_4″ _builder_version=”3.25″ custom_padding=”|||” custom_padding__hover=”|||”][et_pb_code admin_label=”Eventbrite Embed Code (turn off if no ticketing for event)” _builder_version=”4.9.10″ _module_preset=”default” custom_padding=”2em||||false|false”] \n\n    var exampleCallback = function() {        console.log(‘Order complete!’);    };    window.EBWidgets.createWidget({        // Required        widgetType: ‘checkout’\,        eventId: ‘166092215287’\,        iframeContainerId: ‘eventbrite-widget-container-166092215287’\,        // Optional        iframeContainerHeight: 425\,  // Widget height in pixels. Defaults to a minimum of 425px if not provided        onOrderComplete: exampleCallback  // Method called when an order has successfully completed    });[/et_pb_code][/et_pb_column][/et_pb_row][et_pb_row column_structure=”2_3\,1_3″ _builder_version=”4.6.0″ _module_preset=”default” background_color=”#ffffff” custom_padding=”2em|2em|2em|2em|false|false”][et_pb_column type=”2_3″ _builder_version=”4.6.0″ _module_preset=”default”][et_pb_code admin_label=”Event Schema Code Taken From Event Specific Info (not editable)” module_class=”outside_event” _builder_version=”4.9.4″ _module_preset=”default”] \n\n \nOrganizer: Time:  @ Location: Address: Website: 	 \n \n[/et_pb_code][et_pb_button button_text=”Register or More Information” button_alignment=”center” admin_label=”Editable URL for Registration or More Info” _builder_version=”4.6.0″ _module_preset=”default” custom_button=”on” button_text_color=”#ffffff” button_bg_color=”#507754″ button_border_color=”#507754″ button_font=”|||on|||||”][/et_pb_button][/et_pb_column][et_pb_column type=”1_3″ _builder_version=”4.6.0″ _module_preset=”default”][et_pb_image src=”@ET-DC@eyJkeW5hbWljIjp0cnVlLCJjb250ZW50IjoicG9zdF9mZWF0dXJlZF9pbWFnZSIsInNldHRpbmdzIjp7fX0=@” admin_label=”Taken From Featured Image (not editable through the Builder)” _builder_version=”4.6.0″ _dynamic_attributes=”src” _module_preset=”default”][/et_pb_image][/et_pb_column][/et_pb_row][/et_pb_section][et_pb_section fb_built=”1″ admin_label=”Not Editable” _builder_version=”4.6.0″ _module_preset=”default” collapsed=”off”][et_pb_row _builder_version=”4.6.0″ _module_preset=”default”][et_pb_column type=”4_4″ _builder_version=”4.6.0″ _module_preset=”default”][et_pb_text admin_label=”Not Editable” _builder_version=”4.6.0″ _module_preset=”default” text_text_color=”#507754″ text_font_size=”18px” header_2_text_color=”#507754″ header_2_font_size=”30px”] \nOther Events\n[/et_pb_text][decm_divi_event_calendar admin_label=”Not Editable (Events Calendar)” _builder_version=”4.6.0″ _module_preset=”default”][/decm_divi_event_calendar][/et_pb_column][/et_pb_row][/et_pb_section]
URL:https://regenerativeagideanetwork.org/event/silvopasture-and-riparian-buffer-field-day-at-fields-restored-farm/
LOCATION:41.979485\, -89.416882\, 41.979485\, -89.416882\, Oregon\, IL\, 61061
GEO:42.0147513;-89.3323279
X-APPLE-STRUCTURED-LOCATION;VALUE=URI;X-ADDRESS=41.979485 -89.416882 41.979485 -89.416882 Oregon IL 61061;X-APPLE-RADIUS=500;X-TITLE=41.979485\, -89.416882:geo:-89.3323279,42.0147513
END:VEVENT
END:VCALENDAR