BEGIN:VCALENDAR
VERSION:2.0
PRODID:-//REGAIN - ECPv6.10.2//NONSGML v1.0//EN
CALSCALE:GREGORIAN
METHOD:PUBLISH
X-ORIGINAL-URL:https://regenerativeagideanetwork.org
X-WR-CALDESC:Events for REGAIN
REFRESH-INTERVAL;VALUE=DURATION:PT1H
X-Robots-Tag:noindex
X-PUBLISHED-TTL:PT1H
BEGIN:VTIMEZONE
TZID:America/Chicago
BEGIN:DAYLIGHT
TZOFFSETFROM:-0600
TZOFFSETTO:-0500
TZNAME:CDT
DTSTART:20210314T080000
END:DAYLIGHT
BEGIN:STANDARD
TZOFFSETFROM:-0500
TZOFFSETTO:-0600
TZNAME:CST
DTSTART:20211107T070000
END:STANDARD
END:VTIMEZONE
BEGIN:VEVENT
DTSTART;TZID=America/Chicago:20211023T100000
DTEND;TZID=America/Chicago:20211023T130000
DTSTAMP:20260421T100916
CREATED:20210929T163645Z
LAST-MODIFIED:20210929T163645Z
UID:8089-1634983200-1634994000@regenerativeagideanetwork.org
SUMMARY:Cambridge Winery Tour and Vineyard Management Field Day
DESCRIPTION:[et_pb_section fb_built=”1″ admin_label=”Not Editable” _builder_version=”4.6.0″ _module_preset=”default” background_enable_color=”off” background_image=”https://www.savannainstitute.org/wp-content/uploads/2020/08/agroforestrybanner_colortrees.jpg” background_position=”bottom_center” min_height=”400px” min_height_tablet=”” min_height_phone=”200px” min_height_last_edited=”on|phone” custom_margin=”||0px||false|false” custom_margin_tablet=”” custom_margin_phone=”” custom_margin_last_edited=”on|desktop” custom_padding=”||0px||false|false” global_colors_info=”{}”][et_pb_row _builder_version=”4.6.0″ _module_preset=”default” global_colors_info=”{}”][et_pb_column type=”4_4″ _builder_version=”4.5.6″ _module_preset=”default” global_colors_info=”{}”][/et_pb_column][/et_pb_row][/et_pb_section][et_pb_section fb_built=”1″ admin_label=”section” _builder_version=”4.9.4″ background_color=”#FFFFFF” collapsed=”off” global_colors_info=”{}”][et_pb_row _builder_version=”4.6.0″ _module_preset=”default” background_color=”#ffffff” custom_margin=”-6%||||false|false” custom_padding=”2em|2em|2em|2em|false|false” global_colors_info=”{}”][et_pb_column type=”4_4″ _builder_version=”4.6.0″ _module_preset=”default” global_colors_info=”{}”][et_pb_text admin_label=”Title Taken From Post Title (not editable)” _builder_version=”4.9.2″ _dynamic_attributes=”content” _module_preset=”default” text_font=”|700||on|||||” text_text_color=”#507754″ text_font_size=”30px” global_colors_info=”{}”]@ET-DC@eyJkeW5hbWljIjp0cnVlLCJjb250ZW50IjoicG9zdF90aXRsZSIsInNldHRpbmdzIjp7ImJlZm9yZSI6IiIsImFmdGVyIjoiIn19@[/et_pb_text][et_pb_text admin_label=”Enter or Edit Event Description” _builder_version=”4.10.6″ _module_preset=”default” text_text_color=”#507754″ text_font_size=”18px” global_colors_info=”{}”] \nVineyards contend with many competitors: birds and pests\, disease and drought\, people and the local ecosystem. This tour will be a gathering of the minds to brainstorm about new possibilities and to share experiences of success and failure. \nThere will be a presentation by a Savanna Institute Technical Service Provider to talk about alley cropping\, the resources available\, what type of crops work best in vineyard settings\, and how these practices can effect water quality. We will then tour the vineyard for a collective discussion about alley cropping possibilities for soil carbon and water retention\, followed by a discussion of vineyard pest management. The day will end with an optional wine tasting and social hour.  \nThis event is free\, but the wine tasting is $17 (includes cheese\, crackers\, and selected wines).  \nSchedule: \n10-10:30 Presentation from Savanna Institute Technical service provider. Free \n10:30- 11:30 Vineyard walk: brainstorming alley cropping possibilities for soil carbon and water retention\, followed by a discussion of vineyard pest management. Free \n12 -1 wine tasting social hour. $17 \n[/et_pb_text][/et_pb_column][/et_pb_row][et_pb_row admin_label=”row” _builder_version=”4.6.0″ background_color=”#ffffff” background_size=”initial” background_position=”top_left” background_repeat=”repeat” custom_margin=”-6%||||false|false” custom_margin_tablet=”auto||||false|false” custom_margin_phone=”auto||||false|false” custom_margin_last_edited=”on|phone” custom_padding=”2em|2em|2em|2em|false|false” global_colors_info=”{}”][et_pb_column type=”4_4″ _builder_version=”3.25″ custom_padding=”|||” global_colors_info=”{}” custom_padding__hover=”|||”][et_pb_code admin_label=”Eventbrite Embed Code (turn off if no ticketing for event)” _builder_version=”4.10.6″ _module_preset=”default” custom_padding=”2em||||false|false” global_colors_info=”{}”] \n\n    var exampleCallback = function() {        console.log(‘Order complete!’);    };    window.EBWidgets.createWidget({        // Required        widgetType: ‘checkout’\,        eventId: ‘170330967509’\,        iframeContainerId: ‘eventbrite-widget-container-170330967509’\,        // Optional        iframeContainerHeight: 425\,  // Widget height in pixels. Defaults to a minimum of 425px if not provided        onOrderComplete: exampleCallback  // Method called when an order has successfully completed    });[/et_pb_code][/et_pb_column][/et_pb_row][et_pb_row column_structure=”2_3\,1_3″ _builder_version=”4.6.0″ _module_preset=”default” background_color=”#ffffff” custom_padding=”2em|2em|2em|2em|false|false” global_colors_info=”{}”][et_pb_column type=”2_3″ _builder_version=”4.6.0″ _module_preset=”default” global_colors_info=”{}”][et_pb_code admin_label=”Event Schema Code Taken From Event Specific Info (not editable)” module_class=”outside_event” _builder_version=”4.9.4″ _module_preset=”default” global_colors_info=”{}”] \n\n \nOrganizer: Time:  @ Location: Address: Website: 	 \n \n[/et_pb_code][/et_pb_column][et_pb_column type=”1_3″ _builder_version=”4.6.0″ _module_preset=”default” global_colors_info=”{}”][et_pb_image src=”@ET-DC@eyJkeW5hbWljIjp0cnVlLCJjb250ZW50IjoicG9zdF9mZWF0dXJlZF9pbWFnZSIsInNldHRpbmdzIjp7fX0=@” admin_label=”Taken From Featured Image (not editable through the Builder)” _builder_version=”4.6.0″ _dynamic_attributes=”src” _module_preset=”default” global_colors_info=”{}”][/et_pb_image][/et_pb_column][/et_pb_row][/et_pb_section][et_pb_section fb_built=”1″ admin_label=”Not Editable” _builder_version=”4.6.0″ _module_preset=”default” collapsed=”off” global_colors_info=”{}”][et_pb_row _builder_version=”4.6.0″ _module_preset=”default” global_colors_info=”{}”][et_pb_column type=”4_4″ _builder_version=”4.6.0″ _module_preset=”default” global_colors_info=”{}”][et_pb_text admin_label=”Not Editable” _builder_version=”4.6.0″ _module_preset=”default” text_text_color=”#507754″ text_font_size=”18px” header_2_text_color=”#507754″ header_2_font_size=”30px” global_colors_info=”{}”] \nOther Events\n[/et_pb_text][decm_divi_event_calendar admin_label=”Not Editable (Events Calendar)” _builder_version=”4.6.0″ _module_preset=”default” global_colors_info=”{}”][/decm_divi_event_calendar][/et_pb_column][/et_pb_row][/et_pb_section]
URL:https://regenerativeagideanetwork.org/event/cambridge-winery-tour-and-vineyard-management-field-day/
LOCATION:cambridge winery\, 700 Kenseth Way\, Cambridge\, WI\, 53523
GEO:43.0127433;-89.0262595
X-APPLE-STRUCTURED-LOCATION;VALUE=URI;X-ADDRESS=cambridge winery 700 Kenseth Way Cambridge WI 53523;X-APPLE-RADIUS=500;X-TITLE=700 Kenseth Way:geo:-89.0262595,43.0127433
END:VEVENT
END:VCALENDAR