BEGIN:VCALENDAR
VERSION:2.0
PRODID:-//REGAIN - ECPv6.10.2//NONSGML v1.0//EN
CALSCALE:GREGORIAN
METHOD:PUBLISH
X-ORIGINAL-URL:https://regenerativeagideanetwork.org
X-WR-CALDESC:Events for REGAIN
REFRESH-INTERVAL;VALUE=DURATION:PT1H
X-Robots-Tag:noindex
X-PUBLISHED-TTL:PT1H
BEGIN:VTIMEZONE
TZID:America/New_York
BEGIN:DAYLIGHT
TZOFFSETFROM:-0500
TZOFFSETTO:-0400
TZNAME:EDT
DTSTART:20210314T070000
END:DAYLIGHT
BEGIN:STANDARD
TZOFFSETFROM:-0400
TZOFFSETTO:-0500
TZNAME:EST
DTSTART:20211107T060000
END:STANDARD
END:VTIMEZONE
BEGIN:VEVENT
DTSTART;TZID=America/New_York:20211110T140000
DTEND;TZID=America/New_York:20211110T150000
DTSTAMP:20260421T083603
CREATED:20211110T152236Z
LAST-MODIFIED:20211110T152236Z
UID:8412-1636552800-1636556400@regenerativeagideanetwork.org
SUMMARY:Non-Profit Boot Camp: Grant Writing for Federal Funding
DESCRIPTION:USDA has a wide variety of grant programs that can give your food systems work the boost it needs. But these grants can be tricky to apply for and win. The Wallace Center’s Food Systems Leadership Network is excited to offer this 3-session training on writing federal grant proposals. Join Margaret Krome of Michael Fields Agricultural Institute and Una Van Duvall for a 3 part series of hour-long workshops to help you develop skills for designing and writing successful federal grant proposals. This workshop will strengthen your skills\, ability\, and confidence around applying for federal USDA funding for food systems work. The lessons will inform\, direct\, and coach attendees by utilizing real-life funding examples\, peer-to-peer learning\, and tips and suggestions on how to design sound projects\, find funding and write successful grant proposals.  \nWorkshops will take place on the following dates and times with a “bonus” workshop and Q&A session scheduled for November 18 for anyone who would like individual discussion about their projects or funding needs. These sessions will be recorded and shared on the FSLN platform if you can’t make one or all of them. Register here!  \nNovember 9 from 1-2pm CST: How to Design a Sound Project\nNovember 10 from 1-2pm CST: Where/how to Find Funding\nNovember 11 from 1-2pm CST: Grant Writing Basics
URL:https://regenerativeagideanetwork.org/event/non-profit-boot-camp-grant-writing-for-federal-funding/
END:VEVENT
BEGIN:VEVENT
DTSTART;TZID=America/New_York:20211110T140000
DTEND;TZID=America/New_York:20211110T150000
DTSTAMP:20260421T083603
CREATED:20211110T152236Z
LAST-MODIFIED:20211110T152236Z
UID:8414-1636552800-1636556400@regenerativeagideanetwork.org
SUMMARY:REGAIN November Office Hours
DESCRIPTION:Teresa serves as Project Director of Climate Land Leaders with Sharing Our Roots. The Sharing Our Roots program is dedicated to bringing landowners together to help tackle the climate crisis by establishing conservation goals for their land. Climate Land Leaders facilitates a peer-to-peer landowner network to increase plant and animal diversity on their land\, keeping their soils covered and roots in the ground year around and planting trees and shrubs on cropland. Teresa will share how the program aims to restore prairie and savannas and wetlands by improving nutrient management on their crop ground and much more.
URL:https://regenerativeagideanetwork.org/event/regain-november-office-hours/
END:VEVENT
BEGIN:VEVENT
DTSTART;TZID=America/New_York:20211111T140000
DTEND;TZID=America/New_York:20211111T150000
DTSTAMP:20260421T083603
CREATED:20211110T152236Z
LAST-MODIFIED:20211110T152236Z
UID:8415-1636639200-1636642800@regenerativeagideanetwork.org
SUMMARY:Non-Profit Boot Camp: Grant Writing for Federal Funding
DESCRIPTION:USDA has a wide variety of grant programs that can give your food systems work the boost it needs. But these grants can be tricky to apply for and win. The Wallace Center’s Food Systems Leadership Network is excited to offer this 3-session training on writing federal grant proposals. Join Margaret Krome of Michael Fields Agricultural Institute and Una Van Duvall for a 3 part series of hour-long workshops to help you develop skills for designing and writing successful federal grant proposals. This workshop will strengthen your skills\, ability\, and confidence around applying for federal USDA funding for food systems work. The lessons will inform\, direct\, and coach attendees by utilizing real-life funding examples\, peer-to-peer learning\, and tips and suggestions on how to design sound projects\, find funding and write successful grant proposals.  \nWorkshops will take place on the following dates and times with a “bonus” workshop and Q&A session scheduled for November 18 for anyone who would like individual discussion about their projects or funding needs. These sessions will be recorded and shared on the FSLN platform if you can’t make one or all of them. Register here!  \nNovember 9 from 1-2pm CST: How to Design a Sound Project\nNovember 10 from 1-2pm CST: Where/how to Find Funding\nNovember 11 from 1-2pm CST: Grant Writing Basics
URL:https://regenerativeagideanetwork.org/event/non-profit-boot-camp-grant-writing-for-federal-funding-2/
END:VEVENT
END:VCALENDAR