BEGIN:VCALENDAR
VERSION:2.0
PRODID:-//REGAIN - ECPv6.10.2//NONSGML v1.0//EN
CALSCALE:GREGORIAN
METHOD:PUBLISH
X-ORIGINAL-URL:https://regenerativeagideanetwork.org
X-WR-CALDESC:Events for REGAIN
REFRESH-INTERVAL;VALUE=DURATION:PT1H
X-Robots-Tag:noindex
X-PUBLISHED-TTL:PT1H
BEGIN:VTIMEZONE
TZID:America/New_York
BEGIN:DAYLIGHT
TZOFFSETFROM:-0500
TZOFFSETTO:-0400
TZNAME:EDT
DTSTART:20220313T070000
END:DAYLIGHT
BEGIN:STANDARD
TZOFFSETFROM:-0400
TZOFFSETTO:-0500
TZNAME:EST
DTSTART:20221106T060000
END:STANDARD
END:VTIMEZONE
BEGIN:VTIMEZONE
TZID:America/Chicago
BEGIN:DAYLIGHT
TZOFFSETFROM:-0600
TZOFFSETTO:-0500
TZNAME:CDT
DTSTART:20220313T080000
END:DAYLIGHT
BEGIN:STANDARD
TZOFFSETFROM:-0500
TZOFFSETTO:-0600
TZNAME:CST
DTSTART:20221106T070000
END:STANDARD
END:VTIMEZONE
BEGIN:VEVENT
DTSTART;VALUE=DATE:20221113
DTEND;VALUE=DATE:20221114
DTSTAMP:20260423T082132
CREATED:20221107T234002Z
LAST-MODIFIED:20221107T234002Z
UID:11246-1668297600-1668383999@regenerativeagideanetwork.org
SUMMARY:HEAL School of Political Leadership Application Deadline
DESCRIPTION:The HEAL School of Political Leadership (SoPL) is seeking motivated and committed teams of 2-4 individuals who want to enhance their advocacy\, organizing\, and political leadership skills to champion food and farm systems that are healthy\, accessible and affordable to all communities; fair and dignified for the hard working people across the food chain; and that protect the air\, water\, and land we all depend on. \nAre you or someone you know interested in participating in SoPL and creating campaigns for inclusive\, health food and farm systems? \nHEAL’s expert trainers and guest speakers will teach the cohort strategies and skills to win campaigns (policy advocacy\, organizing and electoral). Sessions will include but are not limited to the following: \n\nPower analysis\nCampaign strategy and development\nField and Base Building\nCommunications and Messaging\nEthical and Accountable Leadership\nPolitical Advocacy\nHEAL’s Platform for Real Food\n\nDue to the pandemic\, sessions for the 2023 SoPL cohort will be virtual with the possibility of a final in-person session if conditions allow. We design sessions based on the unique goals\, needs and realities of participants. \nThroughout the course\, team members will map institutional power systems in their own communities to assist in the development of their campaign plan. Teams will also learn to cultivate relationships with local media outlets to achieve a media placement such as an op-ed\, press conference\, or other event.
URL:https://regenerativeagideanetwork.org/event/heal-school-of-political-leadership-application-deadline/
END:VEVENT
BEGIN:VEVENT
DTSTART;TZID=America/New_York:20221115T110000
DTEND;TZID=America/New_York:20221115T120000
DTSTAMP:20260423T082132
CREATED:20221110T160214Z
LAST-MODIFIED:20221115T193437Z
UID:11253-1668510000-1668513600@regenerativeagideanetwork.org
SUMMARY:Food Security Webinar: exploring the role of community nutrition in advancing regenerative agriculture and sustainable development
DESCRIPTION:Join us on Tuesday\, November 15th\, 2022 \n8am PT / 11am ET / 4pm GMT\nHeld virtually on Google Meet\n(A link and calendar appointment will be shared with you after registration)\nABOUT:\nJoin us for a virtual discussion about the role of community nutrition (and related initiatives) in advancing regenerative agriculture and sustainable development. Come as a curious observer or eager participant to share about your interests and experiences.\n\nThis webinar aims to bring together all people interested or active in community-level efforts including but not limited to: food skills and culinary education\, farm-based education\, school gardens and nutrition\, nutrition-sensitive agriculture\, food justice\, indigenous foodways\, and many more focus areas at the intersection of community nutrition\, public health\, and regenerative agriculture around the globe.\nWatch a brief presentation from Michelle and Hawa about the work and vision of Food Fluency as well as the role of community nutrition in efforts towards more sustainable agriculture and development practices and food system transformation. We’ll then open the space for relevant conversations to reflect and share experiences\, resources\, challenges and best practices.\n \nContact: Michelle@FoodFluency.org
URL:https://regenerativeagideanetwork.org/event/food-security-webinar-exploring-the-role-of-community-nutrition-in-advancing-regenerative-agriculture-and-sustainable-development/
CATEGORIES:Webinar
ATTACH;FMTTYPE=image/jpeg:https://regenerativeagideanetwork.org/wp-content/uploads/2022/11/Food-Security-Webinar-15-Nov-22-JPG.jpg
END:VEVENT
BEGIN:VEVENT
DTSTART;TZID=America/New_York:20221115T150000
DTEND;TZID=America/New_York:20221115T163000
DTSTAMP:20260423T082132
CREATED:20221107T234002Z
LAST-MODIFIED:20221107T234002Z
UID:11247-1668524400-1668529800@regenerativeagideanetwork.org
SUMMARY:Value Chain Coordination Communities of Practice Call
DESCRIPTION:Value Chain Coordination is the development of soft infrastructure\, like relationships\, networks and information sharing channels\, that creates thriving and sustainable regional food economies. The VCC Community of Practice is a place for those doing the multi-faceted work of value chain coordination to connect and build relationships\, share knowledge\, ideas and innovations\, and work through common challenges. \nThe goal of these monthly calls is to build connections between people coordinating value chains\, solve problems together\, and share what works best. Calls will be structured around relevant topics based on the needs and interests of attendees. We hope that they will provide a regular opportunity for you to connect and learn from each other and various invited food systems leaders.
URL:https://regenerativeagideanetwork.org/event/value-chain-coordination-communities-of-practice-call/
END:VEVENT
BEGIN:VEVENT
DTSTART;TZID=America/New_York:20221117T130000
DTEND;TZID=America/New_York:20221117T140000
DTSTAMP:20260423T082132
CREATED:20221107T234002Z
LAST-MODIFIED:20221107T234002Z
UID:11249-1668690000-1668693600@regenerativeagideanetwork.org
SUMMARY:Workshop: Food as a Public Work
DESCRIPTION:Join Vital Village for the third and final installment of the Networks of Opportunity for Child Wellbeing (NOW) 2022 Webinar Series\, featuring Pantaleon Florez III of Maseualkualli Farms and Vital Village Networks 2022 Community Food Systems Fellow. \nThis session will feature a workshop on the Food as a Public Work Campaign that seeks to reintegrate private lands into public commons while enacting food and agricultural producer justice via a targeted universalism approach. \n?NOTA: Hay una línea en español disponible para los participantes que deseen escuchar interpretación en vivo durante el seminario web.
URL:https://regenerativeagideanetwork.org/event/workshop-food-as-a-public-work/
END:VEVENT
BEGIN:VEVENT
DTSTART;TZID=America/Chicago:20221117T133000
DTEND;TZID=America/Chicago:20221117T143000
DTSTAMP:20260423T082132
CREATED:20221107T234002Z
LAST-MODIFIED:20221107T234002Z
UID:11250-1668691800-1668695400@regenerativeagideanetwork.org
SUMMARY:Rural Grocery Succession Planning
DESCRIPTION:Succession planning is a crucial part of any business plan. In the world of grocery\, it helps ensure communities maintain access to food\, even after an owner exits the business. \nOften\, business transitions create opportunities to think creatively and partner with the local community. That’s why in Part Two of the Rural Grocery Succession Planning Webinar Series\, Kansas State University will dive deeper into community-supported grocery ownership models. \nWhat are the characteristics of various grocery ownership models\, and how do communities decide the right fit? Join to discuss these questions and more.
URL:https://regenerativeagideanetwork.org/event/rural-grocery-succession-planning-2/
END:VEVENT
END:VCALENDAR